View In:
ArcGIS JavaScript
ArcGIS Online Map Viewer
ArcGIS Earth
Service Description: Aerial-imagery mosaic for Seminole County, 2024, RGBI, 4 band, natural color, 6 inch resolution covering 399 sq miles. This is an ArcGis raster mosaic dataset, with overviews, covering all of Seminole County, flown from October 14th to November 19th, 2023. Consists of 444 tiles, formatted as 8-bit 4-band RGBI TIFF. Original tiles were 4-band RGBI TIFF. Projection of the tiled images is state plane, Florida east zone, NAD 1983 (2011), US feet, and the projection of the mosaic is state plane, Florida east zone, NAD 1983-HARN, US feet.
Name: Imagery/Seminole
Description: Aerial-imagery mosaic for Seminole County, 2024, RGBI, 4 band, natural color, 6 inch resolution covering 399 sq miles. This is an ArcGis raster mosaic dataset, with overviews, covering all of Seminole County, flown from October 14th to November 19th, 2023. Consists of 444 tiles, formatted as 8-bit 4-band RGBI TIFF. Original tiles were 4-band RGBI TIFF. Projection of the tiled images is state plane, Florida east zone, NAD 1983 (2011), US feet, and the projection of the mosaic is state plane, Florida east zone, NAD 1983-HARN, US feet.
Single Fused Map Cache: false
Extent:
XMin: 504999.00083274394
YMin: 1550001.9764506605
XMax: 664999.0008327421
YMax: 1655001.9764506593
Spatial Reference: 2881
(2881)
LatestVCSWkid(0)
Initial Extent:
XMin: 504999.00083274394
YMin: 1550001.9764506605
XMax: 664999.0008327421
YMax: 1655001.9764506593
Spatial Reference: 2881
(2881)
LatestVCSWkid(0)
Full Extent:
XMin: 504999.00083274394
YMin: 1550001.9764506605
XMax: 664999.0008327421
YMax: 1655001.9764506593
Spatial Reference: 2881
(2881)
LatestVCSWkid(0)
Pixel Size X: 0.49999999999999417
Pixel Size Y: 0.49999999999999445
Band Count: 4
Pixel Type: U8
RasterFunction Infos: {"rasterFunctionInfos": [{
"name": "None",
"description": "",
"help": ""
}]}
Mensuration Capabilities: None
Inspection Capabilities:
Has Histograms: true
Has Colormap: false
Has Multi Dimensions : false
Rendering Rule:
Min Scale: 0
Max Scale: 0
Copyright Text: Source credit goes to Eagleview contracted by Florida Department of Revenue, as well as Florida Department of Transportation. SFWMD, Geospatial Services: Geospatial Services is a unit within the South Florida Water Management District Information Technology Bureau (ITB). Geospatial Services manages and maintains enterprise geospatial services, products, and data and is governed by the ITB Policies and Procedures.
Service Data Type: esriImageServiceDataTypeGeneric
Min Values: 0, 4, 17, 2
Max Values: 255, 255, 255, 254
Mean Values: 109.33064799394552, 111.43029825889482, 93.61952763058007, 137.43917638153255
Standard Deviation Values: 40.44080589710067, 33.17585640885954, 28.153984748135827, 42.65746514413092
Object ID Field: OBJECTID
Fields:
-
OBJECTID
(
type: esriFieldTypeOID, alias: OBJECTID
)
-
Shape
(
type: esriFieldTypeGeometry, alias: Shape
)
-
Name
(
type: esriFieldTypeString, alias: Name, length: 200
)
-
MinPS
(
type: esriFieldTypeDouble, alias: MinPS
)
-
MaxPS
(
type: esriFieldTypeDouble, alias: MaxPS
)
-
LowPS
(
type: esriFieldTypeDouble, alias: LowPS
)
-
HighPS
(
type: esriFieldTypeDouble, alias: HighPS
)
-
Category
(
type: esriFieldTypeInteger, alias: Category
, Coded Values:
[0: Unknown]
, [1: Primary]
, [2: Overview]
, ...6 more...
)
-
Tag
(
type: esriFieldTypeString, alias: Tag, length: 100
)
-
GroupName
(
type: esriFieldTypeString, alias: GroupName, length: 100
)
-
ProductName
(
type: esriFieldTypeString, alias: ProductName, length: 100
)
-
CenterX
(
type: esriFieldTypeDouble, alias: CenterX
)
-
CenterY
(
type: esriFieldTypeDouble, alias: CenterY
)
-
ZOrder
(
type: esriFieldTypeInteger, alias: ZOrder
)
-
Shape_Length
(
type: esriFieldTypeDouble, alias: Shape_Length
)
-
Shape_Area
(
type: esriFieldTypeDouble, alias: Shape_Area
)
Default Mosaic Method: Northwest
Allowed Mosaic Methods: NorthWest,Center,LockRaster,ByAttribute,Nadir,Viewpoint,Seamline,None
SortField:
SortValue: null
Mosaic Operator: First
Default Compression Quality: 75
Default Resampling Method: Bilinear
Max Record Count: 1000
Max Image Height: 4100
Max Image Width: 15000
Max Download Image Count: 20
Max Mosaic Image Count: 20
Allow Raster Function: true
Allow Copy: true
Allow Analysis: true
Allow Compute TiePoints: false
Supports Statistics: true
Supports Advanced Queries: true
Use StandardizedQueries: true
Raster Type Infos:
Name: Raster Dataset
Description: Supports all ArcGIS Raster Datasets
Help:
Has Raster Attribute Table: false
Edit Fields Info: null
Ownership Based AccessControl For Rasters: null
Child Resources:
Info
Histograms
Statistics
Key Properties
Legend
Raster Function Infos
Supported Operations:
Export Image
Query
Identify
Compute Histograms
Compute Statistics Histograms
Get Samples
Compute Class Statistics
Query GPS Info
Find Images
Image to Map
Map to Image
Measure from Image
Image to Map Multiray
Query Boundary
Compute Pixel Location
Compute Angles
Validate
Project