{ "currentVersion": 11.3, "serviceDescription": "
Aerial-imagery mosaic for Seminole County, 2024, RGBI, 4 band, natural color, 6 inch resolution covering 399 sq miles. This is an ArcGis raster mosaic dataset, with overviews, covering all of Seminole County, flown from October 14th to November 19th, 2023. Consists of 444 tiles, formatted as 8-bit 4-band RGBI TIFF. Original tiles were 4-band RGBI TIFF. Projection of the tiled images is state plane, Florida east zone, NAD 1983 (2011), US feet, and the projection of the mosaic is state plane, Florida east zone, NAD 1983-HARN, US feet. <\/SPAN><\/P><\/DIV><\/DIV><\/DIV>",
"name": "Imagery/Seminole",
"description": " Aerial-imagery mosaic for Seminole County, 2024, RGBI, 4 band, natural color, 6 inch resolution covering 399 sq miles. This is an ArcGis raster mosaic dataset, with overviews, covering all of Seminole County, flown from October 14th to November 19th, 2023. Consists of 444 tiles, formatted as 8-bit 4-band RGBI TIFF. Original tiles were 4-band RGBI TIFF. Projection of the tiled images is state plane, Florida east zone, NAD 1983 (2011), US feet, and the projection of the mosaic is state plane, Florida east zone, NAD 1983-HARN, US feet. <\/SPAN><\/P><\/DIV><\/DIV><\/DIV>",
"extent": {
"xmin": 504999.00083274394,
"ymin": 1550001.9764506605,
"xmax": 664999.0008327421,
"ymax": 1655001.9764506593,
"spatialReference": {
"wkid": 2881,
"latestWkid": 2881
}
},
"initialExtent": {
"xmin": 504999.00083274394,
"ymin": 1550001.9764506605,
"xmax": 664999.0008327421,
"ymax": 1655001.9764506593,
"spatialReference": {
"wkid": 2881,
"latestWkid": 2881
}
},
"fullExtent": {
"xmin": 504999.00083274394,
"ymin": 1550001.9764506605,
"xmax": 664999.0008327421,
"ymax": 1655001.9764506593,
"spatialReference": {
"wkid": 2881,
"latestWkid": 2881
}
},
"sortableFields": "MinPS,MaxPS,LowPS,HighPS,CenterX,CenterY,ZOrder,Shape_Length,Shape_Area",
"bandCount": 4,
"pixelType": "U8",
"minValues": [
0,
4,
17,
2
],
"maxValues": [
255,
255,
255,
254
],
"meanValues": [
109.33064799394552,
111.43029825889482,
93.61952763058007,
137.43917638153255
],
"stdvValues": [
40.44080589710067,
33.17585640885954,
28.153984748135827,
42.65746514413092
],
"hasMultidimensions": false,
"pixelSizeX": 0.49999999999999417,
"pixelSizeY": 0.49999999999999445,
"meanPixelSize": 0.1524003048006079,
"datasetFormat": "AMD",
"uncompressedSize": 268800000000,
"blockWidth": 2048,
"blockHeight": 256,
"compressionType": "None",
"bandNames": [
"Band_1",
"Band_2",
"Band_3",
"Band_4"
],
"allowCopy": true,
"allowAnalysis": true,
"itemAccess": false,
"inspectionCapabilities": "",
"minPixelSize": 0,
"maxPixelSize": 0,
"copyrightText": "Source credit goes to Eagleview contracted by Florida Department of Revenue, as well as Florida Department of Transportation. SFWMD, Geospatial Services: Geospatial Services is a unit within the South Florida Water Management District Information Technology Bureau (ITB). Geospatial Services manages and maintains enterprise geospatial services, products, and data and is governed by the ITB Policies and Procedures.",
"serviceDataType": "esriImageServiceDataTypeGeneric",
"serviceSourceType": "esriImageServiceSourceTypeMosaicDataset",
"objectIdField": "OBJECTID",
"fields": [
{
"name": "OBJECTID",
"type": "esriFieldTypeOID",
"alias": "OBJECTID",
"domain": null
},
{
"name": "Shape",
"type": "esriFieldTypeGeometry",
"alias": "Shape",
"domain": null
},
{
"name": "Name",
"type": "esriFieldTypeString",
"alias": "Name",
"domain": null,
"length": 200
},
{
"name": "MinPS",
"type": "esriFieldTypeDouble",
"alias": "MinPS",
"domain": null
},
{
"name": "MaxPS",
"type": "esriFieldTypeDouble",
"alias": "MaxPS",
"domain": null
},
{
"name": "LowPS",
"type": "esriFieldTypeDouble",
"alias": "LowPS",
"domain": null
},
{
"name": "HighPS",
"type": "esriFieldTypeDouble",
"alias": "HighPS",
"domain": null
},
{
"name": "Category",
"type": "esriFieldTypeInteger",
"alias": "Category",
"domain": {
"type": "codedValue",
"name": "MosaicCatalogItemCategoryDomain",
"description": "Catalog item categories.",
"codedValues": [
{
"name": "Unknown",
"code": 0
},
{
"name": "Primary",
"code": 1
},
{
"name": "Overview",
"code": 2
},
{
"name": "Unprocessed Overview",
"code": 3
},
{
"name": "Partial Overview",
"code": 4
},
{
"name": "Inactive",
"code": 5
},
{
"name": "Uploaded",
"code": 253
},
{
"name": "Incomplete",
"code": 254
},
{
"name": "Custom",
"code": 255
}
],
"mergePolicy": "esriMPTDefaultValue",
"splitPolicy": "esriSPTDefaultValue"
}
},
{
"name": "Tag",
"type": "esriFieldTypeString",
"alias": "Tag",
"domain": null,
"length": 100
},
{
"name": "GroupName",
"type": "esriFieldTypeString",
"alias": "GroupName",
"domain": null,
"length": 100
},
{
"name": "ProductName",
"type": "esriFieldTypeString",
"alias": "ProductName",
"domain": null,
"length": 100
},
{
"name": "CenterX",
"type": "esriFieldTypeDouble",
"alias": "CenterX",
"domain": null
},
{
"name": "CenterY",
"type": "esriFieldTypeDouble",
"alias": "CenterY",
"domain": null
},
{
"name": "ZOrder",
"type": "esriFieldTypeInteger",
"alias": "ZOrder",
"domain": null
},
{
"name": "Shape_Length",
"type": "esriFieldTypeDouble",
"alias": "Shape_Length",
"domain": null
},
{
"name": "Shape_Area",
"type": "esriFieldTypeDouble",
"alias": "Shape_Area",
"domain": null
}
],
"capabilities": "Image,Metadata,Catalog",
"defaultMosaicMethod": "Northwest",
"allowedMosaicMethods": "NorthWest,Center,LockRaster,ByAttribute,Nadir,Viewpoint,Seamline,None",
"sortField": "",
"sortValue": null,
"sortAscending": true,
"mosaicOperator": "First",
"maxDownloadSizeLimit": 2048,
"defaultCompressionQuality": 75,
"defaultResamplingMethod": "Bilinear",
"maxImageHeight": 4100,
"maxImageWidth": 15000,
"maxRecordCount": 1000,
"maxDownloadImageCount": 20,
"maxMosaicImageCount": 20,
"allowRasterFunction": true,
"rasterFunctionInfos": [
{
"name": "None",
"description": "",
"help": ""
}
],
"rasterTypeInfos": [
{
"name": "Raster Dataset",
"description": "Supports all ArcGIS Raster Datasets",
"help": ""
}
],
"mensurationCapabilities": "None",
"hasHistograms": true,
"hasColormap": false,
"hasRasterAttributeTable": false,
"minScale": 0,
"maxScale": 0,
"exportTilesAllowed": false,
"supportsStatistics": true,
"supportsAdvancedQueries": true,
"editFieldsInfo": null,
"ownershipBasedAccessControlForRasters": null,
"allowComputeTiePoints": false,
"useStandardizedQueries": true,
"advancedQueryCapabilities": {
"useStandardizedQueries": true,
"supportsStatistics": true,
"supportsOrderBy": true,
"supportsDistinct": true,
"supportsPagination": true
},
"spatialReference": {
"wkid": 2881,
"latestWkid": 2881
}
}