View In:
ArcGIS JavaScript
ArcGIS Online Map Viewer
ArcGIS Earth
Service Description: Aerial-imagery mosaic for Monroe County, 2024, RGBN natural color, 6-inch and 9-inch resolution. This is an ArcGis raster mosaic dataset, with overviews, covering all of Monroe County, It combines two sets of imagery: the Florida Keys at 6-inch resolution (810 tiles), flown 12/31/2023 and 1/1/2024; and mainland Monroe (Everglades) at 9-inch resolution (1125 tiles), flown 1/30/2024, and 2/25/2024. All tiles are organized in a 5000-by-5000-ft tiling scheme, formatted as 8-bit 4-band RGBN TIFF. Projection of the tiled images is state plane, Florida east zone, NAD 1983, US feet, and the projection of the mosaic is the same
Name: Imagery/Monroe
Description: Aerial-imagery mosaic for Monroe County, 2024, RGBN natural color, 6-inch and 9-inch resolution. This is an ArcGis raster mosaic dataset, with overviews, covering all of Monroe County, It combines two sets of imagery: the Florida Keys at 6-inch resolution (810 tiles), flown 12/31/2023 and 1/1/2024; and mainland Monroe (Everglades) at 9-inch resolution (1125 tiles), flown 1/30/2024, and 2/25/2024. All tiles are organized in a 5000-by-5000-ft tiling scheme, formatted as 8-bit 4-band RGBN TIFF. Projection of the tiled images is state plane, Florida east zone, NAD 1983, US feet, and the projection of the mosaic is the same
Single Fused Map Cache: false
Extent:
XMin: 379998.9703214951
YMin: 70001.20153441082
XMax: 909999.4703214889
YMax: 540001.7015344054
Spatial Reference: 2881
(2881)
LatestVCSWkid(0)
Initial Extent:
XMin: 379998.9703214951
YMin: 70001.20153441082
XMax: 909999.4703214889
YMax: 540001.7015344054
Spatial Reference: 2881
(2881)
LatestVCSWkid(0)
Full Extent:
XMin: 379998.9703214951
YMin: 70001.20153441082
XMax: 909999.4703214889
YMax: 540001.7015344054
Spatial Reference: 2881
(2881)
LatestVCSWkid(0)
Pixel Size X: 0.49999999999999417
Pixel Size Y: 0.49999999999999417
Band Count: 4
Pixel Type: U8
RasterFunction Infos: {"rasterFunctionInfos": [{
"name": "None",
"description": "",
"help": ""
}]}
Mensuration Capabilities: None
Inspection Capabilities:
Has Histograms: true
Has Colormap: false
Has Multi Dimensions : false
Rendering Rule:
Min Scale: 0
Max Scale: 0
Copyright Text: SFWMD, Geospatial Services: Geospatial Services is a unit within the South Florida Water Management District Information Technology Bureau (ITB). Geospatial Services manages and maintains enterprise geospatial services, products, and data and is governed by the ITB Policies and Procedures.
Service Data Type: esriImageServiceDataTypeGeneric
Min Values: 0, 4, 10, 0
Max Values: 249, 246, 245, 254
Mean Values: 83.50546186042563, 95.87215164347653, 84.05111179968495, 100.63266590923728
Standard Deviation Values: 42.93195939933106, 29.983817096338857, 27.758752445216814, 74.99939874851587
Object ID Field: OBJECTID
Fields:
-
OBJECTID
(
type: esriFieldTypeOID, alias: OBJECTID
)
-
Shape
(
type: esriFieldTypeGeometry, alias: Shape
)
-
Name
(
type: esriFieldTypeString, alias: Name, length: 200
)
-
MinPS
(
type: esriFieldTypeDouble, alias: MinPS
)
-
MaxPS
(
type: esriFieldTypeDouble, alias: MaxPS
)
-
LowPS
(
type: esriFieldTypeDouble, alias: LowPS
)
-
HighPS
(
type: esriFieldTypeDouble, alias: HighPS
)
-
Category
(
type: esriFieldTypeInteger, alias: Category
, Coded Values:
[0: Unknown]
, [1: Primary]
, [2: Overview]
, ...6 more...
)
-
Tag
(
type: esriFieldTypeString, alias: Tag, length: 100
)
-
GroupName
(
type: esriFieldTypeString, alias: GroupName, length: 100
)
-
ProductName
(
type: esriFieldTypeString, alias: ProductName, length: 100
)
-
CenterX
(
type: esriFieldTypeDouble, alias: CenterX
)
-
CenterY
(
type: esriFieldTypeDouble, alias: CenterY
)
-
ZOrder
(
type: esriFieldTypeInteger, alias: ZOrder
)
-
Shape_Length
(
type: esriFieldTypeDouble, alias: Shape_Length
)
-
Shape_Area
(
type: esriFieldTypeDouble, alias: Shape_Area
)
Default Mosaic Method: Northwest
Allowed Mosaic Methods: NorthWest,Center,LockRaster,ByAttribute,Nadir,Viewpoint,Seamline,None
SortField:
SortValue: null
Mosaic Operator: First
Default Compression Quality: 75
Default Resampling Method: Bilinear
Max Record Count: 1000
Max Image Height: 4100
Max Image Width: 15000
Max Download Image Count: 20
Max Mosaic Image Count: 20
Allow Raster Function: true
Allow Copy: true
Allow Analysis: true
Allow Compute TiePoints: false
Supports Statistics: true
Supports Advanced Queries: true
Use StandardizedQueries: true
Raster Type Infos:
Name: Raster Dataset
Description: Supports all ArcGIS Raster Datasets
Help:
Has Raster Attribute Table: false
Edit Fields Info: null
Ownership Based AccessControl For Rasters: null
Child Resources:
Info
Histograms
Statistics
Key Properties
Legend
Raster Function Infos
Supported Operations:
Export Image
Query
Identify
Compute Histograms
Compute Statistics Histograms
Get Samples
Compute Class Statistics
Query GPS Info
Find Images
Image to Map
Map to Image
Measure from Image
Image to Map Multiray
Query Boundary
Compute Pixel Location
Compute Angles
Validate
Project