{ "currentVersion": 11.3, "serviceDescription": "
Aerial-imagery mosaic for Monroe County, 2024, RGBN natural color, 6-inch and 9-inch resolution. This is an ArcGis raster mosaic dataset, with overviews, covering all of Monroe County, It combines two sets of imagery: the Florida Keys at 6-inch resolution (810 tiles), flown 12/31/2023 and 1/1/2024; and mainland Monroe (Everglades) at 9-inch resolution (1125 tiles), flown 1/30/2024, and 2/25/2024. All tiles are organized in a 5000-by-5000-ft tiling scheme, formatted as 8-bit 4-band RGBN TIFF. Projection of the tiled images is state plane, Florida east zone, NAD 1983, US feet, and the projection of the mosaic is the same<\/SPAN><\/P><\/DIV><\/DIV>",
"name": "Imagery/Monroe",
"description": " Aerial-imagery mosaic for Monroe County, 2024, RGBN natural color, 6-inch and 9-inch resolution. This is an ArcGis raster mosaic dataset, with overviews, covering all of Monroe County, It combines two sets of imagery: the Florida Keys at 6-inch resolution (810 tiles), flown 12/31/2023 and 1/1/2024; and mainland Monroe (Everglades) at 9-inch resolution (1125 tiles), flown 1/30/2024, and 2/25/2024. All tiles are organized in a 5000-by-5000-ft tiling scheme, formatted as 8-bit 4-band RGBN TIFF. Projection of the tiled images is state plane, Florida east zone, NAD 1983, US feet, and the projection of the mosaic is the same<\/SPAN><\/P><\/DIV><\/DIV>",
"extent": {
"xmin": 379998.9703214951,
"ymin": 70001.20153441082,
"xmax": 909999.4703214889,
"ymax": 540001.7015344054,
"spatialReference": {
"wkid": 2881,
"latestWkid": 2881
}
},
"initialExtent": {
"xmin": 379998.9703214951,
"ymin": 70001.20153441082,
"xmax": 909999.4703214889,
"ymax": 540001.7015344054,
"spatialReference": {
"wkid": 2881,
"latestWkid": 2881
}
},
"fullExtent": {
"xmin": 379998.9703214951,
"ymin": 70001.20153441082,
"xmax": 909999.4703214889,
"ymax": 540001.7015344054,
"spatialReference": {
"wkid": 2881,
"latestWkid": 2881
}
},
"sortableFields": "MinPS,MaxPS,LowPS,HighPS,CenterX,CenterY,ZOrder,Shape_Length,Shape_Area",
"bandCount": 4,
"pixelType": "U8",
"minValues": [
0,
4,
10,
0
],
"maxValues": [
249,
246,
245,
254
],
"meanValues": [
83.50546186042563,
95.87215164347653,
84.05111179968495,
100.63266590923728
],
"stdvValues": [
42.93195939933106,
29.983817096338857,
27.758752445216814,
74.99939874851587
],
"hasMultidimensions": false,
"pixelSizeX": 0.49999999999999417,
"pixelSizeY": 0.49999999999999417,
"meanPixelSize": 0.15240030480060784,
"datasetFormat": "AMD",
"uncompressedSize": 3985608000004,
"blockWidth": 2048,
"blockHeight": 256,
"compressionType": "None",
"bandNames": [
"Red",
"Green",
"Blue",
"Infrared"
],
"allowCopy": true,
"allowAnalysis": true,
"itemAccess": false,
"inspectionCapabilities": "",
"minPixelSize": 0,
"maxPixelSize": 0,
"copyrightText": "SFWMD, Geospatial Services: Geospatial Services is a unit within the South Florida Water Management District Information Technology Bureau (ITB). Geospatial Services manages and maintains enterprise geospatial services, products, and data and is governed by the ITB Policies and Procedures.",
"serviceDataType": "esriImageServiceDataTypeGeneric",
"serviceSourceType": "esriImageServiceSourceTypeMosaicDataset",
"objectIdField": "OBJECTID",
"fields": [
{
"name": "OBJECTID",
"type": "esriFieldTypeOID",
"alias": "OBJECTID",
"domain": null
},
{
"name": "Shape",
"type": "esriFieldTypeGeometry",
"alias": "Shape",
"domain": null
},
{
"name": "Name",
"type": "esriFieldTypeString",
"alias": "Name",
"domain": null,
"length": 200
},
{
"name": "MinPS",
"type": "esriFieldTypeDouble",
"alias": "MinPS",
"domain": null
},
{
"name": "MaxPS",
"type": "esriFieldTypeDouble",
"alias": "MaxPS",
"domain": null
},
{
"name": "LowPS",
"type": "esriFieldTypeDouble",
"alias": "LowPS",
"domain": null
},
{
"name": "HighPS",
"type": "esriFieldTypeDouble",
"alias": "HighPS",
"domain": null
},
{
"name": "Category",
"type": "esriFieldTypeInteger",
"alias": "Category",
"domain": {
"type": "codedValue",
"name": "MosaicCatalogItemCategoryDomain",
"description": "Catalog item categories.",
"codedValues": [
{
"name": "Unknown",
"code": 0
},
{
"name": "Primary",
"code": 1
},
{
"name": "Overview",
"code": 2
},
{
"name": "Unprocessed Overview",
"code": 3
},
{
"name": "Partial Overview",
"code": 4
},
{
"name": "Inactive",
"code": 5
},
{
"name": "Uploaded",
"code": 253
},
{
"name": "Incomplete",
"code": 254
},
{
"name": "Custom",
"code": 255
}
],
"mergePolicy": "esriMPTDefaultValue",
"splitPolicy": "esriSPTDefaultValue"
}
},
{
"name": "Tag",
"type": "esriFieldTypeString",
"alias": "Tag",
"domain": null,
"length": 100
},
{
"name": "GroupName",
"type": "esriFieldTypeString",
"alias": "GroupName",
"domain": null,
"length": 100
},
{
"name": "ProductName",
"type": "esriFieldTypeString",
"alias": "ProductName",
"domain": null,
"length": 100
},
{
"name": "CenterX",
"type": "esriFieldTypeDouble",
"alias": "CenterX",
"domain": null
},
{
"name": "CenterY",
"type": "esriFieldTypeDouble",
"alias": "CenterY",
"domain": null
},
{
"name": "ZOrder",
"type": "esriFieldTypeInteger",
"alias": "ZOrder",
"domain": null
},
{
"name": "Shape_Length",
"type": "esriFieldTypeDouble",
"alias": "Shape_Length",
"domain": null
},
{
"name": "Shape_Area",
"type": "esriFieldTypeDouble",
"alias": "Shape_Area",
"domain": null
}
],
"capabilities": "Image,Metadata,Catalog",
"defaultMosaicMethod": "Northwest",
"allowedMosaicMethods": "NorthWest,Center,LockRaster,ByAttribute,Nadir,Viewpoint,Seamline,None",
"sortField": "",
"sortValue": null,
"sortAscending": true,
"mosaicOperator": "First",
"maxDownloadSizeLimit": 2048,
"defaultCompressionQuality": 75,
"defaultResamplingMethod": "Bilinear",
"maxImageHeight": 4100,
"maxImageWidth": 15000,
"maxRecordCount": 1000,
"maxDownloadImageCount": 20,
"maxMosaicImageCount": 20,
"allowRasterFunction": true,
"rasterFunctionInfos": [
{
"name": "None",
"description": "",
"help": ""
}
],
"rasterTypeInfos": [
{
"name": "Raster Dataset",
"description": "Supports all ArcGIS Raster Datasets",
"help": ""
}
],
"mensurationCapabilities": "None",
"hasHistograms": true,
"hasColormap": false,
"hasRasterAttributeTable": false,
"minScale": 0,
"maxScale": 0,
"exportTilesAllowed": false,
"supportsStatistics": true,
"supportsAdvancedQueries": true,
"editFieldsInfo": null,
"ownershipBasedAccessControlForRasters": null,
"allowComputeTiePoints": false,
"useStandardizedQueries": true,
"advancedQueryCapabilities": {
"useStandardizedQueries": true,
"supportsStatistics": true,
"supportsOrderBy": true,
"supportsDistinct": true,
"supportsPagination": true
},
"spatialReference": {
"wkid": 2881,
"latestWkid": 2881
}
}