View In:
ArcGIS JavaScript
ArcGIS Online Map Viewer
ArcGIS Earth
Service Description: SFWMD Mosaic of Aerial Photography, September 2024. *** Image mosaic that contains a collection of aerial photography from various sources and image dates. The mosaic displays the following imagery, with the first mosaic on top and the last mosaic on the bottom: 2024 (Broward (east), Collier, Osceola, Palm Beach (east), Martin), 2023 (Charlotte, Hendry, Highlands, Lee, Miami-Dade, Palm Beach, St. Lucie, Desoto, Hardee, Lake, Polk, Orange), 2022 (Monroe), 2021 (Glades, Indian River, Okeechobee, Seminole), and 2019 (Broward Rural). The mosaic coordinates are defined for state plane projection, Florida east zone, NAD 1983-HARN, US feet.
Name: Imagery/AERIALPHOTOGRAPHY
Description: SFWMD Mosaic of Aerial Photography, September 2024. *** Image mosaic that contains a collection of aerial photography from various sources and image dates. The mosaic displays the following imagery, with the first mosaic on top and the last mosaic on the bottom: 2024 (Broward (east), Collier, Osceola, Palm Beach (east), Martin), 2023 (Charlotte, Hendry, Highlands, Lee, Miami-Dade, Palm Beach, St. Lucie, Desoto, Hardee, Lake, Polk, Orange), 2022 (Monroe), 2021 (Glades, Indian River, Okeechobee, Seminole), and 2019 (Broward Rural). The mosaic coordinates are defined for state plane projection, Florida east zone, NAD 1983-HARN, US feet.
Single Fused Map Cache: false
Extent:
XMin: 204160.8390588276
YMin: 70001.51092509646
XMax: 975000.0890588186
YMax: 1800002.0109250762
Spatial Reference: 2881
(2881)
LatestVCSWkid(0)
Initial Extent:
XMin: 204160.8390588276
YMin: 70001.51092509646
XMax: 975000.0890588186
YMax: 1800002.0109250762
Spatial Reference: 2881
(2881)
LatestVCSWkid(0)
Full Extent:
XMin: 204160.8390588276
YMin: 70001.51092509646
XMax: 975000.0890588186
YMax: 1800002.0109250762
Spatial Reference: 2881
(2881)
LatestVCSWkid(0)
Pixel Size X: 0.24999999999999709
Pixel Size Y: 0.24999999999999709
Band Count: 3
Pixel Type: U8
RasterFunction Infos: {"rasterFunctionInfos": [{
"name": "None",
"description": "A No-Op Function.",
"help": ""
}]}
Mensuration Capabilities: Basic
Inspection Capabilities:
Has Histograms: false
Has Colormap: false
Has Multi Dimensions : false
Rendering Rule:
Min Scale: 0
Max Scale: 0
Copyright Text: SFWMD, Geospatial Services
Service Data Type: esriImageServiceDataTypeRGB
Min Values: N/A
Max Values: N/A
Mean Values: N/A
Standard Deviation Values: N/A
Object ID Field: OBJECTID
Fields:
-
OBJECTID
(
type: esriFieldTypeOID, alias: OBJECTID
)
-
Shape
(
type: esriFieldTypeGeometry, alias: Shape
)
-
Name
(
type: esriFieldTypeString, alias: Name, length: 200
)
-
MinPS
(
type: esriFieldTypeDouble, alias: MinPS
)
-
MaxPS
(
type: esriFieldTypeDouble, alias: MaxPS
)
-
LowPS
(
type: esriFieldTypeDouble, alias: LowPS
)
-
HighPS
(
type: esriFieldTypeDouble, alias: HighPS
)
-
Category
(
type: esriFieldTypeInteger, alias: Category
, Coded Values:
[0: Unknown]
, [1: Primary]
, [2: Overview]
, ...6 more...
)
-
Tag
(
type: esriFieldTypeString, alias: Tag, length: 100
)
-
GroupName
(
type: esriFieldTypeString, alias: GroupName, length: 100
)
-
ProductName
(
type: esriFieldTypeString, alias: ProductName, length: 100
)
-
CenterX
(
type: esriFieldTypeDouble, alias: CenterX
)
-
CenterY
(
type: esriFieldTypeDouble, alias: CenterY
)
-
ZOrder
(
type: esriFieldTypeInteger, alias: ZOrder
)
-
ImageDate
(
type: esriFieldTypeDate, alias: ImageDate, length: 8
)
-
ImageDate_Num
(
type: esriFieldTypeInteger, alias: ImageDate_Num
)
-
Shape_Length
(
type: esriFieldTypeDouble, alias: Shape_Length
)
-
Shape_Area
(
type: esriFieldTypeDouble, alias: Shape_Area
)
Default Mosaic Method: Northwest
Allowed Mosaic Methods: NorthWest,Center,LockRaster,ByAttribute,Nadir,Viewpoint,Seamline,None
SortField:
SortValue: null
Mosaic Operator: First
Default Compression Quality: 75
Default Resampling Method: Bilinear
Max Record Count: 1000
Max Image Height: 4100
Max Image Width: 15000
Max Download Image Count: 20
Max Mosaic Image Count: 30
Allow Raster Function: true
Allow Copy: true
Allow Analysis: true
Allow Compute TiePoints: false
Supports Statistics: true
Supports Advanced Queries: true
Use StandardizedQueries: true
Raster Type Infos:
Name: Raster Dataset
Description: Supports all ArcGIS Raster Datasets
Help:
Has Raster Attribute Table: false
Edit Fields Info: null
Ownership Based AccessControl For Rasters: null
Child Resources:
Info
Statistics
Key Properties
Legend
Raster Function Infos
Supported Operations:
Export Image
Query
Identify
Measure
Compute Histograms
Compute Statistics Histograms
Get Samples
Compute Class Statistics
Query GPS Info
Find Images
Image to Map
Map to Image
Measure from Image
Image to Map Multiray
Query Boundary
Compute Pixel Location
Compute Angles
Validate
Project