{ "currentVersion": 11.3, "serviceDescription": "
SFWMD Mosaic of Aerial Photography, September 2024. *** Image mosaic that contains a collection of aerial photography from various sources and image dates. The mosaic displays the following imagery, with the first mosaic on top and the last mosaic on the bottom: 2024 <\/span>(Broward (east), Collier, Osceola, Palm Beach (east), Martin), 2023 (Charlotte, Hendry, Highlands, Lee, Miami-Dade, Palm Beach, St. Lucie, Desoto, Hardee, Lake, Polk, Orange), 2022 (Monroe), 2021 (Glades, Indian River, Okeechobee, Seminole), and 2019 (Broward Rural). The mosaic coordinates are defined for state plane projection, Florida east zone, NAD 1983-HARN, US feet.<\/span> SFWMD Mosaic of Aerial Photography, September 2024. *** Image mosaic that contains a collection of aerial photography from various sources and image dates. The mosaic displays the following imagery, with the first mosaic on top and the last mosaic on the bottom: 2024 <\/span>(Broward (east), Collier, Osceola, Palm Beach (east), Martin), 2023 (Charlotte, Hendry, Highlands, Lee, Miami-Dade, Palm Beach, St. Lucie, Desoto, Hardee, Lake, Polk, Orange), 2022 (Monroe), 2021 (Glades, Indian River, Okeechobee, Seminole), and 2019 (Broward Rural). The mosaic coordinates are defined for state plane projection, Florida east zone, NAD 1983-HARN, US feet.<\/span>
<\/p><\/div>",
"name": "Imagery/AERIALPHOTOGRAPHY",
"description": "
<\/p><\/div>",
"extent": {
"xmin": 204160.8390588276,
"ymin": 70001.51092509646,
"xmax": 975000.0890588186,
"ymax": 1800002.0109250762,
"spatialReference": {
"wkid": 2881,
"latestWkid": 2881
}
},
"initialExtent": {
"xmin": 204160.8390588276,
"ymin": 70001.51092509646,
"xmax": 975000.0890588186,
"ymax": 1800002.0109250762,
"spatialReference": {
"wkid": 2881,
"latestWkid": 2881
}
},
"fullExtent": {
"xmin": 204160.8390588276,
"ymin": 70001.51092509646,
"xmax": 975000.0890588186,
"ymax": 1800002.0109250762,
"spatialReference": {
"wkid": 2881,
"latestWkid": 2881
}
},
"sortableFields": "MinPS,MaxPS,LowPS,HighPS,CenterX,CenterY,ZOrder,Shape_Length,Shape_Area,ImageDate,ImageDate_Num",
"bandCount": 3,
"pixelType": "U8",
"minValues": [],
"maxValues": [],
"meanValues": [],
"stdvValues": [],
"hasMultidimensions": false,
"pixelSizeX": 0.24999999999999709,
"pixelSizeY": 0.24999999999999709,
"meanPixelSize": 0.07620015240030392,
"datasetFormat": "AMD",
"uncompressedSize": 64010509820142,
"blockWidth": 2048,
"blockHeight": 256,
"compressionType": "None",
"bandNames": [
"Red",
"Green",
"Blue"
],
"allowCopy": true,
"allowAnalysis": true,
"itemAccess": false,
"inspectionCapabilities": "",
"minPixelSize": 0,
"maxPixelSize": 0,
"copyrightText": "SFWMD, Geospatial Services",
"serviceDataType": "esriImageServiceDataTypeRGB",
"serviceSourceType": "esriImageServiceSourceTypeMosaicDataset",
"objectIdField": "OBJECTID",
"fields": [
{
"name": "OBJECTID",
"type": "esriFieldTypeOID",
"alias": "OBJECTID",
"domain": null
},
{
"name": "Shape",
"type": "esriFieldTypeGeometry",
"alias": "Shape",
"domain": null
},
{
"name": "Name",
"type": "esriFieldTypeString",
"alias": "Name",
"domain": null,
"length": 200
},
{
"name": "MinPS",
"type": "esriFieldTypeDouble",
"alias": "MinPS",
"domain": null
},
{
"name": "MaxPS",
"type": "esriFieldTypeDouble",
"alias": "MaxPS",
"domain": null
},
{
"name": "LowPS",
"type": "esriFieldTypeDouble",
"alias": "LowPS",
"domain": null
},
{
"name": "HighPS",
"type": "esriFieldTypeDouble",
"alias": "HighPS",
"domain": null
},
{
"name": "Category",
"type": "esriFieldTypeInteger",
"alias": "Category",
"domain": {
"type": "codedValue",
"name": "MosaicCatalogItemCategoryDomain",
"description": "Catalog item categories.",
"codedValues": [
{
"name": "Unknown",
"code": 0
},
{
"name": "Primary",
"code": 1
},
{
"name": "Overview",
"code": 2
},
{
"name": "Unprocessed Overview",
"code": 3
},
{
"name": "Partial Overview",
"code": 4
},
{
"name": "Inactive",
"code": 5
},
{
"name": "Uploaded",
"code": 253
},
{
"name": "Incomplete",
"code": 254
},
{
"name": "Custom",
"code": 255
}
],
"mergePolicy": "esriMPTDefaultValue",
"splitPolicy": "esriSPTDefaultValue"
}
},
{
"name": "Tag",
"type": "esriFieldTypeString",
"alias": "Tag",
"domain": null,
"length": 100
},
{
"name": "GroupName",
"type": "esriFieldTypeString",
"alias": "GroupName",
"domain": null,
"length": 100
},
{
"name": "ProductName",
"type": "esriFieldTypeString",
"alias": "ProductName",
"domain": null,
"length": 100
},
{
"name": "CenterX",
"type": "esriFieldTypeDouble",
"alias": "CenterX",
"domain": null
},
{
"name": "CenterY",
"type": "esriFieldTypeDouble",
"alias": "CenterY",
"domain": null
},
{
"name": "ZOrder",
"type": "esriFieldTypeInteger",
"alias": "ZOrder",
"domain": null
},
{
"name": "ImageDate",
"type": "esriFieldTypeDate",
"alias": "ImageDate",
"domain": null,
"length": 8
},
{
"name": "ImageDate_Num",
"type": "esriFieldTypeInteger",
"alias": "ImageDate_Num",
"domain": null
},
{
"name": "Shape_Length",
"type": "esriFieldTypeDouble",
"alias": "Shape_Length",
"domain": null
},
{
"name": "Shape_Area",
"type": "esriFieldTypeDouble",
"alias": "Shape_Area",
"domain": null
}
],
"capabilities": "Image,Metadata,Mensuration,Catalog",
"defaultMosaicMethod": "Northwest",
"allowedMosaicMethods": "NorthWest,Center,LockRaster,ByAttribute,Nadir,Viewpoint,Seamline,None",
"sortField": "",
"sortValue": null,
"sortAscending": true,
"mosaicOperator": "First",
"maxDownloadSizeLimit": 2048,
"defaultCompressionQuality": 75,
"defaultResamplingMethod": "Bilinear",
"maxImageHeight": 4100,
"maxImageWidth": 15000,
"maxRecordCount": 1000,
"maxDownloadImageCount": 20,
"maxMosaicImageCount": 30,
"allowRasterFunction": true,
"rasterFunctionInfos": [
{
"name": "None",
"description": "A No-Op Function.",
"help": ""
}
],
"rasterTypeInfos": [
{
"name": "Raster Dataset",
"description": "Supports all ArcGIS Raster Datasets",
"help": ""
}
],
"mensurationCapabilities": "Basic",
"hasHistograms": false,
"hasColormap": false,
"hasRasterAttributeTable": false,
"minScale": 0,
"maxScale": 0,
"exportTilesAllowed": false,
"supportsStatistics": true,
"supportsAdvancedQueries": true,
"editFieldsInfo": null,
"ownershipBasedAccessControlForRasters": null,
"allowComputeTiePoints": false,
"useStandardizedQueries": true,
"advancedQueryCapabilities": {
"useStandardizedQueries": true,
"supportsStatistics": true,
"supportsOrderBy": true,
"supportsDistinct": true,
"supportsPagination": true
},
"spatialReference": {
"wkid": 2881,
"latestWkid": 2881
}
}