View In:
ArcGIS JavaScript
ArcGIS Online Map Viewer
ArcGIS Earth
Service Description: Aerial imagery mosaic collection for St Lucie County, RGBI natural color, 4-band, 6-inch resolution. This is an ArcGIS raster mosaic dataset of digital orthophotos, with overviews, covering all of St Lucie County. The mosaic will include all imagery acquisition from 2023 onward. The projection of the tiles is in State Plane Florida East Zone NAD 83 (2011), US feet. The projection of the mosaic is state plane, Florida east zone, 1983-HARN, US feet.
Currently it has 2023 imagery that was collected/flown December 29th, 2022, to January 7th, 2023.
Name: Imagery/StLucie
Description: Aerial imagery mosaic collection for St Lucie County, RGBI natural color, 4-band, 6-inch resolution. This is an ArcGIS raster mosaic dataset of digital orthophotos, with overviews, covering all of St Lucie County. The mosaic will include all imagery acquisition from 2023 onward. The projection of the tiles is in State Plane Florida East Zone NAD 83 (2011), US feet. The projection of the mosaic is state plane, Florida east zone, 1983-HARN, US feet.
Currently it has 2023 imagery that was collected/flown December 29th, 2022, to January 7th, 2023.
Single Fused Map Cache: false
Extent:
XMin: 754999.0631675795
YMin: 1040001.8609934896
XMax: 919999.0631675795
YMax: 1175001.8609934896
Spatial Reference: 2881
(2881)
LatestVCSWkid(0)
Initial Extent:
XMin: 754999.0631675795
YMin: 1040001.8609934896
XMax: 919999.0631675795
YMax: 1175001.8609934896
Spatial Reference: 2881
(2881)
LatestVCSWkid(0)
Full Extent:
XMin: 754999.0631675795
YMin: 1040001.8609934896
XMax: 919999.0631675795
YMax: 1175001.8609934896
Spatial Reference: 2881
(2881)
LatestVCSWkid(0)
Pixel Size X: 0.5
Pixel Size Y: 0.5
Band Count: 4
Pixel Type: U8
RasterFunction Infos: {"rasterFunctionInfos": [{
"name": "None",
"description": "A No-Op Function.",
"help": ""
}]}
Mensuration Capabilities: Basic
Inspection Capabilities:
Has Histograms: true
Has Colormap: false
Has Multi Dimensions : false
Rendering Rule:
Min Scale: 0
Max Scale: 0
Copyright Text: Aerial flight contractors will change. Source credit goes to St. Lucie County Property Appraiser Office, Florida Department of Revenue, and Florida Department of Transportation. SFWMD, Geospatial Services: Geospatial Services is a unit within the South Florida Water Management District Information Technology Bureau (ITB). Geospatial Services manages and maintains enterprise geospatial services, products, and data and is governed by the ITB Policies and Procedures.
Service Data Type: esriImageServiceDataTypeGeneric
Min Values: 1, 18, 34, 5
Max Values: 255, 255, 255, 246
Mean Values: 96.71845025239068, 102.75601306212499, 98.15962929319649, 125.12696133104906
Standard Deviation Values: 32.86461336644788, 27.108063018218193, 24.704248465445886, 41.72376485468796
Object ID Field: OBJECTID
Fields:
-
OBJECTID
(
type: esriFieldTypeOID, alias: OBJECTID
)
-
Shape
(
type: esriFieldTypeGeometry, alias: Shape
)
-
Name
(
type: esriFieldTypeString, alias: Name, length: 200
)
-
MinPS
(
type: esriFieldTypeDouble, alias: MinPS
)
-
MaxPS
(
type: esriFieldTypeDouble, alias: MaxPS
)
-
LowPS
(
type: esriFieldTypeDouble, alias: LowPS
)
-
HighPS
(
type: esriFieldTypeDouble, alias: HighPS
)
-
Category
(
type: esriFieldTypeInteger, alias: Category
, Coded Values:
[0: Unknown]
, [1: Primary]
, [2: Overview]
, ...6 more...
)
-
Tag
(
type: esriFieldTypeString, alias: Tag, length: 100
)
-
GroupName
(
type: esriFieldTypeString, alias: GroupName, length: 100
)
-
ProductName
(
type: esriFieldTypeString, alias: ProductName, length: 100
)
-
CenterX
(
type: esriFieldTypeDouble, alias: CenterX
)
-
CenterY
(
type: esriFieldTypeDouble, alias: CenterY
)
-
ZOrder
(
type: esriFieldTypeInteger, alias: ZOrder
)
-
Shape_Length
(
type: esriFieldTypeDouble, alias: Shape_Length
)
-
Shape_Area
(
type: esriFieldTypeDouble, alias: Shape_Area
)
Default Mosaic Method: Northwest
Allowed Mosaic Methods: NorthWest,Center,LockRaster,ByAttribute,Nadir,Viewpoint,Seamline,None
SortField:
SortValue: null
Mosaic Operator: First
Default Compression Quality: 75
Default Resampling Method: Bilinear
Max Record Count: 1000
Max Image Height: 4100
Max Image Width: 15000
Max Download Image Count: 20
Max Mosaic Image Count: 20
Allow Raster Function: true
Allow Copy: true
Allow Analysis: true
Allow Compute TiePoints: false
Supports Statistics: true
Supports Advanced Queries: true
Use StandardizedQueries: true
Raster Type Infos:
Name: Raster Dataset
Description: Supports all ArcGIS Raster Datasets
Help:
Has Raster Attribute Table: false
Edit Fields Info: null
Ownership Based AccessControl For Rasters: null
Child Resources:
Info
Histograms
Statistics
Key Properties
Legend
Raster Function Infos
Supported Operations:
Export Image
Query
Identify
Measure
Compute Histograms
Compute Statistics Histograms
Get Samples
Compute Class Statistics
Query GPS Info
Find Images
Image to Map
Map to Image
Measure from Image
Image to Map Multiray
Query Boundary
Compute Pixel Location
Compute Angles
Validate
Project