View In:
ArcGIS JavaScript
ArcGIS Online Map Viewer
ArcGIS Earth
Service Description: Aerial-imagery mosaic for Indian River County, 2024, RGBI, 4 band, natural color, 6-inch resolution. This is an ArcGIS raster mosaic dataset, with overviews, covering Indian River County. Aerial imagery collection was flown between November 3rd and December 18th, 2023, covering 632 square miles within Indian River County. Indian River county consists of 704 tiles with 6-inch resolution, formatted as 8-bit 4-band RGBI TIFF. Projection of the tiled images is state plane, Florida east zone, 1983 (2011), US feet, and the projection of the mosaic is state plane, Florida east zone, 1983 HARN, US feet.
Name: Imagery/IndianRiver
Description: Aerial-imagery mosaic for Indian River County, 2024, RGBI, 4 band, natural color, 6-inch resolution. This is an ArcGIS raster mosaic dataset, with overviews, covering Indian River County. Aerial imagery collection was flown between November 3rd and December 18th, 2023, covering 632 square miles within Indian River County. Indian River county consists of 704 tiles with 6-inch resolution, formatted as 8-bit 4-band RGBI TIFF. Projection of the tiled images is state plane, Florida east zone, 1983 (2011), US feet, and the projection of the mosaic is state plane, Florida east zone, 1983 HARN, US feet.
Single Fused Map Cache: false
Extent:
XMin: 689999.0468424112
YMin: 1165001.8891950697
XMax: 879999.0468424112
YMax: 1290001.8891950697
Spatial Reference: 2881
(2881)
LatestVCSWkid(0)
Initial Extent:
XMin: 689999.0468424112
YMin: 1165001.8891950697
XMax: 879999.0468424112
YMax: 1290001.8891950697
Spatial Reference: 2881
(2881)
LatestVCSWkid(0)
Full Extent:
XMin: 689999.0468424112
YMin: 1165001.8891950697
XMax: 879999.0468424112
YMax: 1290001.8891950697
Spatial Reference: 2881
(2881)
LatestVCSWkid(0)
Pixel Size X: 0.5
Pixel Size Y: 0.5
Band Count: 4
Pixel Type: U8
RasterFunction Infos: {"rasterFunctionInfos": [{
"name": "None",
"description": "A No-Op Function.",
"help": ""
}]}
Mensuration Capabilities: None
Inspection Capabilities:
Has Histograms: true
Has Colormap: false
Has Multi Dimensions : false
Rendering Rule:
Min Scale: 0
Max Scale: 0
Copyright Text: Source credit goes to Eagleview that was contracted by the Florida Department of Revenue (F-DOR), Florida Department of Transportation (FDOT). SFWMD, Geospatial Services: Geospatial Services is a unit within the South Florida Water Management District Information Technology Bureau (ITB). Geospatial Services manages and maintains enterprise geospatial services, products, and data and is governed by the ITB Policies and Procedures.
Service Data Type: esriImageServiceDataTypeGeneric
Min Values: 1, 3, 10, 1
Max Values: 255, 255, 255, 252
Mean Values: 119.03352312590978, 117.69378676669064, 86.6185506503379, 141.13163689351413
Standard Deviation Values: 34.922997658019014, 30.086416906949363, 26.61753024912908, 49.2156342156129
Object ID Field: OBJECTID
Fields:
-
OBJECTID
(
type: esriFieldTypeOID, alias: OBJECTID
)
-
Shape
(
type: esriFieldTypeGeometry, alias: Shape
)
-
Name
(
type: esriFieldTypeString, alias: Name, length: 200
)
-
MinPS
(
type: esriFieldTypeDouble, alias: MinPS
)
-
MaxPS
(
type: esriFieldTypeDouble, alias: MaxPS
)
-
LowPS
(
type: esriFieldTypeDouble, alias: LowPS
)
-
HighPS
(
type: esriFieldTypeDouble, alias: HighPS
)
-
Category
(
type: esriFieldTypeInteger, alias: Category
, Coded Values:
[0: Unknown]
, [1: Primary]
, [2: Overview]
, ...6 more...
)
-
Tag
(
type: esriFieldTypeString, alias: Tag, length: 100
)
-
GroupName
(
type: esriFieldTypeString, alias: GroupName, length: 100
)
-
ProductName
(
type: esriFieldTypeString, alias: ProductName, length: 100
)
-
CenterX
(
type: esriFieldTypeDouble, alias: CenterX
)
-
CenterY
(
type: esriFieldTypeDouble, alias: CenterY
)
-
ZOrder
(
type: esriFieldTypeInteger, alias: ZOrder
)
-
Shape_Length
(
type: esriFieldTypeDouble, alias: Shape_Length
)
-
Shape_Area
(
type: esriFieldTypeDouble, alias: Shape_Area
)
Default Mosaic Method: Northwest
Allowed Mosaic Methods: NorthWest,Center,LockRaster,ByAttribute,Nadir,Viewpoint,Seamline,None
SortField:
SortValue: null
Mosaic Operator: First
Default Compression Quality: 75
Default Resampling Method: Bilinear
Max Record Count: 1000
Max Image Height: 4100
Max Image Width: 15000
Max Download Image Count: 20
Max Mosaic Image Count: 20
Allow Raster Function: true
Allow Copy: true
Allow Analysis: true
Allow Compute TiePoints: false
Supports Statistics: true
Supports Advanced Queries: true
Use StandardizedQueries: true
Raster Type Infos:
Name: Raster Dataset
Description: Supports all ArcGIS Raster Datasets
Help:
Has Raster Attribute Table: false
Edit Fields Info: null
Ownership Based AccessControl For Rasters: null
Child Resources:
Info
Histograms
Statistics
Key Properties
Legend
Raster Function Infos
Supported Operations:
Export Image
Query
Identify
Compute Histograms
Compute Statistics Histograms
Get Samples
Compute Class Statistics
Query GPS Info
Find Images
Image to Map
Map to Image
Measure from Image
Image to Map Multiray
Query Boundary
Compute Pixel Location
Compute Angles
Validate
Project