View In:
ArcGIS JavaScript
ArcGIS Online Map Viewer
ArcGIS Earth
Service Description: Aerial-imagery mosaic for Glades County, 2024, RGBN natural color, 6-inch resolution. This is an ArcGIS raster mosaic dataset, with overviews, covering Glades County. Aerial imagery collected by Sanborn (1935 Jamboree Dr Suite 100 Colorado Springs, CO), The imagery was obtained and processed by all digital means beginning with data acquisition using an UltraCam Eagle camera, serial number 139 on January 30, 31, and February 3 2024. The orthophotos are available in tiled GeoTIFF format. The projected coordinate system is State Plane Florida East (FIPS Zone 0901), NAD 83 2011, Units Feet. The orthophotographs are gridded as 5,000 feet x 5000 feet modular tiles. Glades county consists of 1219 tiles with 6-inch resolution, formatted as 8-bit 4-band RGB TIFF. The projection of the mosaic is state plane, Florida east zone, 1983 HARN, US feet.
Name: Imagery/Glades
Description: Aerial-imagery mosaic for Glades County, 2024, RGBN natural color, 6-inch resolution. This is an ArcGIS raster mosaic dataset, with overviews, covering Glades County. Aerial imagery collected by Sanborn (1935 Jamboree Dr Suite 100 Colorado Springs, CO), The imagery was obtained and processed by all digital means beginning with data acquisition using an UltraCam Eagle camera, serial number 139 on January 30, 31, and February 3 2024. The orthophotos are available in tiled GeoTIFF format. The projected coordinate system is State Plane Florida East (FIPS Zone 0901), NAD 83 2011, Units Feet. The orthophotographs are gridded as 5,000 feet x 5000 feet modular tiles. Glades county consists of 1219 tiles with 6-inch resolution, formatted as 8-bit 4-band RGB TIFF. The projection of the mosaic is state plane, Florida east zone, 1983 HARN, US feet.
Single Fused Map Cache: false
Extent:
XMin: 469998.9934050776
YMin: 880001.8291699067
XMax: 699998.9934050776
YMax: 1050001.8291699067
Spatial Reference: 2881
(2881)
LatestVCSWkid(0)
Initial Extent:
XMin: 469998.9934050776
YMin: 880001.8291699067
XMax: 699998.9934050776
YMax: 1050001.8291699067
Spatial Reference: 2881
(2881)
LatestVCSWkid(0)
Full Extent:
XMin: 469998.9934050776
YMin: 880001.8291699067
XMax: 699998.9934050776
YMax: 1050001.8291699067
Spatial Reference: 2881
(2881)
LatestVCSWkid(0)
Pixel Size X: 0.5
Pixel Size Y: 0.5
Band Count: 4
Pixel Type: U8
RasterFunction Infos: {"rasterFunctionInfos": [{
"name": "None",
"description": "",
"help": ""
}]}
Mensuration Capabilities: None
Inspection Capabilities:
Has Histograms: true
Has Colormap: false
Has Multi Dimensions : false
Rendering Rule:
Min Scale: 0
Max Scale: 0
Copyright Text: Source credit goes to Florida Department of Revenue (F-DOR), Florida Department of Transportation (FDOT). SFWMD, Geospatial Services: Geospatial Services is a unit within the South Florida Water Management District Information Technology Bureau (ITB). Geospatial Services manages and maintains enterprise geospatial services, products, and data and is governed by the ITB Policies and Procedures.
Service Data Type: esriImageServiceDataTypeGeneric
Min Values: 1, 1, 1, 1
Max Values: 231, 224, 224, 229
Mean Values: 97.75554882517037, 90.28288324591706, 77.50337453270495, 146.60449244693316
Standard Deviation Values: 27.256865289020862, 23.746985058403855, 20.987889433228197, 41.685677284857626
Object ID Field: OBJECTID
Fields:
-
OBJECTID
(
type: esriFieldTypeOID, alias: OBJECTID
)
-
Shape
(
type: esriFieldTypeGeometry, alias: Shape
)
-
Name
(
type: esriFieldTypeString, alias: Name, length: 200
)
-
MinPS
(
type: esriFieldTypeDouble, alias: MinPS
)
-
MaxPS
(
type: esriFieldTypeDouble, alias: MaxPS
)
-
LowPS
(
type: esriFieldTypeDouble, alias: LowPS
)
-
HighPS
(
type: esriFieldTypeDouble, alias: HighPS
)
-
Category
(
type: esriFieldTypeInteger, alias: Category
, Coded Values:
[0: Unknown]
, [1: Primary]
, [2: Overview]
, ...6 more...
)
-
Tag
(
type: esriFieldTypeString, alias: Tag, length: 100
)
-
GroupName
(
type: esriFieldTypeString, alias: GroupName, length: 100
)
-
ProductName
(
type: esriFieldTypeString, alias: ProductName, length: 100
)
-
CenterX
(
type: esriFieldTypeDouble, alias: CenterX
)
-
CenterY
(
type: esriFieldTypeDouble, alias: CenterY
)
-
ZOrder
(
type: esriFieldTypeInteger, alias: ZOrder
)
-
Shape_Length
(
type: esriFieldTypeDouble, alias: Shape_Length
)
-
Shape_Area
(
type: esriFieldTypeDouble, alias: Shape_Area
)
Default Mosaic Method: Northwest
Allowed Mosaic Methods: NorthWest,Center,LockRaster,ByAttribute,Nadir,Viewpoint,Seamline,None
SortField:
SortValue: null
Mosaic Operator: First
Default Compression Quality: 75
Default Resampling Method: Bilinear
Max Record Count: 1000
Max Image Height: 4100
Max Image Width: 15000
Max Download Image Count: 20
Max Mosaic Image Count: 20
Allow Raster Function: true
Allow Copy: true
Allow Analysis: true
Allow Compute TiePoints: false
Supports Statistics: true
Supports Advanced Queries: true
Use StandardizedQueries: true
Raster Type Infos:
Name: Raster Dataset
Description: Supports all ArcGIS Raster Datasets
Help:
Has Raster Attribute Table: false
Edit Fields Info: null
Ownership Based AccessControl For Rasters: null
Child Resources:
Info
Histograms
Statistics
Key Properties
Legend
Raster Function Infos
Supported Operations:
Export Image
Query
Identify
Compute Histograms
Compute Statistics Histograms
Get Samples
Compute Class Statistics
Query GPS Info
Find Images
Image to Map
Map to Image
Measure from Image
Image to Map Multiray
Query Boundary
Compute Pixel Location
Compute Angles
Validate
Project