View In:
ArcGIS JavaScript
ArcGIS Online Map Viewer
ArcGIS Earth
Service Description: This digital elevation model was compiled from 2018 Florida Peninsular Project, recent USGS 3D Elevation Program (3DEP), NOAA Bathymetric Continuously Updated Digital Elevation Model Tiles, USGS High Accuracy Elevation data, USACE Lake Okeechobee bathymetry, and other best available data sources for Miami-Dade and Tribal Reservations. It is a bare earth representation of ground elevations. Exceptions include hydro-flattened waterbodies, permanently or semi-permanently flooded areas where LiDAR sensors are unable to detect ground due to a number of factors. For source collection extents and metadata, please consult the SF_NAVD88_CollectionMetadata feature class.
Name: Elevation/SF_NAVD88_DEM_ServiceMosaic_NGVD
Description: This digital elevation model was compiled from 2018 Florida Peninsular Project, recent USGS 3D Elevation Program (3DEP), NOAA Bathymetric Continuously Updated Digital Elevation Model Tiles, USGS High Accuracy Elevation data, USACE Lake Okeechobee bathymetry, and other best available data sources for Miami-Dade and Tribal Reservations. It is a bare earth representation of ground elevations. Exceptions include hydro-flattened waterbodies, permanently or semi-permanently flooded areas where LiDAR sensors are unable to detect ground due to a number of factors. For source collection extents and metadata, please consult the SF_NAVD88_CollectionMetadata feature class.
Single Fused Map Cache: false
Extent:
XMin: 8664.621784329414
YMin: 60843.33308140631
XMax: 1008582.1217843294
YMax: 1780000.8330814063
Spatial Reference: 2881
(2881)
VCSWkid(105703)
LatestVCSWkid(6360)
Initial Extent:
XMin: 8664.621784329414
YMin: 60843.33308140631
XMax: 1008582.1217843294
YMax: 1780000.8330814063
Spatial Reference: 2881
(2881)
VCSWkid(105703)
LatestVCSWkid(6360)
Full Extent:
XMin: 8664.621784329414
YMin: 60843.33308140631
XMax: 1008582.1217843294
YMax: 1780000.8330814063
Spatial Reference: 2881
(2881)
VCSWkid(105703)
LatestVCSWkid(6360)
Pixel Size X: 2.5
Pixel Size Y: 2.5
Band Count: 1
Pixel Type: F32
RasterFunction Infos: {"rasterFunctionInfos": [
{
"name": "NAD88_ConversionTo29_v2",
"description": "Apply datum offset to NAVD88 elevation to provide an estimated NGVD elevation",
"help": ""
},
{
"name": "None",
"description": "Make a Raster or Raster Dataset into a Function Raster Dataset.",
"help": ""
}
]}
Mensuration Capabilities: Basic
Inspection Capabilities:
Has Histograms: true
Has Colormap: false
Has Multi Dimensions : false
Rendering Rule:
Min Scale: 0
Max Scale: 0
Resampling: false
Copyright Text: SFWMD Geospatial Services
Service Data Type: esriImageServiceDataTypeGeneric
Min Values: -343.6716625094414
Max Values: 455.63073843717575
Mean Values: 20.26256079698433
Standard Deviation Values: 47.39461986086778
Object ID Field: OBJECTID
Fields:
-
OBJECTID
(
type: esriFieldTypeOID, alias: OBJECTID
)
-
Shape
(
type: esriFieldTypeGeometry, alias: Shape
)
-
Name
(
type: esriFieldTypeString, alias: Name, length: 200
)
-
MinPS
(
type: esriFieldTypeDouble, alias: MinPS
)
-
MaxPS
(
type: esriFieldTypeDouble, alias: MaxPS
)
-
LowPS
(
type: esriFieldTypeDouble, alias: LowPS
)
-
HighPS
(
type: esriFieldTypeDouble, alias: HighPS
)
-
Category
(
type: esriFieldTypeInteger, alias: Category
, Coded Values:
[0: Unknown]
, [1: Primary]
, [2: Overview]
, ...6 more...
)
-
Tag
(
type: esriFieldTypeString, alias: Tag, length: 100
)
-
GroupName
(
type: esriFieldTypeString, alias: GroupName, length: 100
)
-
ProductName
(
type: esriFieldTypeString, alias: ProductName, length: 100
)
-
CenterX
(
type: esriFieldTypeDouble, alias: CenterX
)
-
CenterY
(
type: esriFieldTypeDouble, alias: CenterY
)
-
ZOrder
(
type: esriFieldTypeInteger, alias: ZOrder
)
-
Shape_Length
(
type: esriFieldTypeDouble, alias: Shape_Length
)
-
Shape_Area
(
type: esriFieldTypeDouble, alias: Shape_Area
)
Default Mosaic Method: Northwest
Allowed Mosaic Methods: NorthWest,Center,LockRaster,ByAttribute,Nadir,Viewpoint,Seamline,None
SortField:
SortValue: null
Mosaic Operator: First
Default Compression Quality: 75
Default Resampling Method: Bilinear
Max Record Count: 1000
Max Image Height: 4100
Max Image Width: 15000
Max Download Image Count: 20
Max Mosaic Image Count: 20
Allow Raster Function: true
Allow Copy: true
Allow Analysis: true
Allow Compute TiePoints: false
Supports Statistics: true
Supports Advanced Queries: true
Use StandardizedQueries: true
Raster Type Infos:
Name: Raster Dataset
Description: Supports all ArcGIS Raster Datasets
Help:
Has Raster Attribute Table: false
Edit Fields Info: null
Ownership Based AccessControl For Rasters: null
Child Resources:
Info
Histograms
Statistics
Key Properties
Legend
Raster Function Infos
Supported Operations:
Export Image
Query
Identify
Measure
Compute Histograms
Compute Statistics Histograms
Get Samples
Compute Class Statistics
Query GPS Info
Find Images
Image to Map
Map to Image
Measure from Image
Image to Map Multiray
Query Boundary
Compute Pixel Location
Compute Angles
Validate
Project