{ "currentVersion": 11.3, "serviceDescription": "
Aerial imagery mosaic collection for Orange County, RGBI natural color, 3-inch and 6-inch resolution. This is an ArcGIS raster mosaic dataset of digital orthophotos, with overviews, covering all of Orange County. The mosaic will include all imagery acquisition from 2023 onward. The projection of the tiles is in State Plane Florida West Zone NAD 83 (2011), US feet. The projection of the mosaic is state plane, Florida East zone, 1983-HARN, US feet.<\/p>
Currently it has 2023 imagery that was collected/flown between January 14th, 2023, to February 6th, 2023. <\/p>", "name": "Imagery/Orange", "description": "
Aerial imagery mosaic collection for Orange County, RGBI natural color, 3-inch and 6-inch resolution. This is an ArcGIS raster mosaic dataset of digital orthophotos, with overviews, covering all of Orange County. The mosaic will include all imagery acquisition from 2023 onward. The projection of the tiles is in State Plane Florida West Zone NAD 83 (2011), US feet. The projection of the mosaic is state plane, Florida East zone, 1983-HARN, US feet.<\/p>
Currently it has 2023 imagery that was collected/flown between January 14th, 2023, to February 6th, 2023. <\/p>", "extent": { "xmin": 443998.98602199554, "ymin": 1424001.9680387378, "xmax": 699999.2360219955, "ymax": 1620001.9680387378, "spatialReference": { "wkid": 2881, "latestWkid": 2881 } }, "initialExtent": { "xmin": 443998.98602199554, "ymin": 1424001.9680387378, "xmax": 699999.2360219955, "ymax": 1620001.9680387378, "spatialReference": { "wkid": 2881, "latestWkid": 2881 } }, "fullExtent": { "xmin": 443998.98602199554, "ymin": 1424001.9680387378, "xmax": 699999.2360219955, "ymax": 1620001.9680387378, "spatialReference": { "wkid": 2881, "latestWkid": 2881 } }, "sortableFields": "MinPS,MaxPS,LowPS,HighPS,CenterX,CenterY,ZOrder,Shape_Length,Shape_Area", "bandCount": 4, "pixelType": "U8", "minValues": [ 0, 15, 29, 0 ], "maxValues": [ 255, 255, 255, 255 ], "meanValues": [ 99.40684597683678, 100.44841374627293, 96.96372401825866, 146.46001131691318 ], "stdvValues": [ 57.02226165418975, 53.58559089005396, 52.936756907701685, 52.3515138624538 ], "hasMultidimensions": false, "pixelSizeX": 0.25, "pixelSizeY": 0.25, "meanPixelSize": 0.07620015240030481, "datasetFormat": "AMD", "uncompressedSize": 3211267136000, "blockWidth": 2048, "blockHeight": 256, "compressionType": "None", "bandNames": [ "Band_1", "Band_2", "Band_3", "Band_4" ], "allowCopy": true, "allowAnalysis": true, "itemAccess": false, "inspectionCapabilities": "", "minPixelSize": 0, "maxPixelSize": 0, "copyrightText": "Aerial flight contractors will change. Source credit goes to Florida Department of Transportation, Florida Department of Revenue, and SWFWMD. SFWMD, Geospatial Services: Geospatial Services is a unit within the South Florida Water Management District Information Technology Bureau (ITB). Geospatial Services manages and maintains enterprise geospatial services, products, and data and is governed by the ITB Policies and Procedures.", "serviceDataType": "esriImageServiceDataTypeGeneric", "serviceSourceType": "esriImageServiceSourceTypeMosaicDataset", "objectIdField": "OBJECTID", "fields": [ { "name": "OBJECTID", "type": "esriFieldTypeOID", "alias": "OBJECTID", "domain": null }, { "name": "Shape", "type": "esriFieldTypeGeometry", "alias": "Shape", "domain": null }, { "name": "Name", "type": "esriFieldTypeString", "alias": "Name", "domain": null, "length": 200 }, { "name": "MinPS", "type": "esriFieldTypeDouble", "alias": "MinPS", "domain": null }, { "name": "MaxPS", "type": "esriFieldTypeDouble", "alias": "MaxPS", "domain": null }, { "name": "LowPS", "type": "esriFieldTypeDouble", "alias": "LowPS", "domain": null }, { "name": "HighPS", "type": "esriFieldTypeDouble", "alias": "HighPS", "domain": null }, { "name": "Category", "type": "esriFieldTypeInteger", "alias": "Category", "domain": { "type": "codedValue", "name": "MosaicCatalogItemCategoryDomain", "description": "Catalog item categories.", "codedValues": [ { "name": "Unknown", "code": 0 }, { "name": "Primary", "code": 1 }, { "name": "Overview", "code": 2 }, { "name": "Unprocessed Overview", "code": 3 }, { "name": "Partial Overview", "code": 4 }, { "name": "Inactive", "code": 5 }, { "name": "Uploaded", "code": 253 }, { "name": "Incomplete", "code": 254 }, { "name": "Custom", "code": 255 } ], "mergePolicy": "esriMPTDefaultValue", "splitPolicy": "esriSPTDefaultValue" } }, { "name": "Tag", "type": "esriFieldTypeString", "alias": "Tag", "domain": null, "length": 100 }, { "name": "GroupName", "type": "esriFieldTypeString", "alias": "GroupName", "domain": null, "length": 100 }, { "name": "ProductName", "type": "esriFieldTypeString", "alias": "ProductName", "domain": null, "length": 100 }, { "name": "CenterX", "type": "esriFieldTypeDouble", "alias": "CenterX", "domain": null }, { "name": "CenterY", "type": "esriFieldTypeDouble", "alias": "CenterY", "domain": null }, { "name": "ZOrder", "type": "esriFieldTypeInteger", "alias": "ZOrder", "domain": null }, { "name": "Shape_Length", "type": "esriFieldTypeDouble", "alias": "Shape_Length", "domain": null }, { "name": "Shape_Area", "type": "esriFieldTypeDouble", "alias": "Shape_Area", "domain": null } ], "capabilities": "Image,Metadata,Catalog", "defaultMosaicMethod": "Northwest", "allowedMosaicMethods": "NorthWest,Center,LockRaster,ByAttribute,Nadir,Viewpoint,Seamline,None", "sortField": "", "sortValue": null, "sortAscending": true, "mosaicOperator": "First", "maxDownloadSizeLimit": 2048, "defaultCompressionQuality": 75, "defaultResamplingMethod": "Bilinear", "maxImageHeight": 4100, "maxImageWidth": 15000, "maxRecordCount": 1000, "maxDownloadImageCount": 20, "maxMosaicImageCount": 20, "allowRasterFunction": true, "rasterFunctionInfos": [ { "name": "None", "description": "", "help": "" } ], "rasterTypeInfos": [ { "name": "Raster Dataset", "description": "Supports all ArcGIS Raster Datasets", "help": "" } ], "mensurationCapabilities": "", "hasHistograms": true, "hasColormap": false, "hasRasterAttributeTable": false, "minScale": 0, "maxScale": 0, "exportTilesAllowed": false, "supportsStatistics": true, "supportsAdvancedQueries": true, "editFieldsInfo": null, "ownershipBasedAccessControlForRasters": null, "allowComputeTiePoints": false, "useStandardizedQueries": true, "advancedQueryCapabilities": { "useStandardizedQueries": true, "supportsStatistics": true, "supportsOrderBy": true, "supportsDistinct": true, "supportsPagination": true }, "spatialReference": { "wkid": 2881, "latestWkid": 2881 } }