{ "currentVersion": 11.3, "serviceDescription": "
Aerial-imagery mosaic for Okeechobee County, 2024, RGBI, 4 band, natural color, 6-inch resolution. This is an ArcGIS raster mosaic dataset, with overviews, covering Okeechobee and Glades Counties. Aerial imagery collected by Sanborn (1935 Jamboree Dr Suite 100 Colorado Springs, CO), between January 10th and February 3rd, 2024. In conjunction with Glades county, it covers a span of 2,058 sq miles. The orthophotographs are gridded as 5,000 feet x 5000 feet modular tiles. Okeechobee county consists of 1110 tiles with 6-inch resolution, formatted as 8-bit 4-band RGBI TIFF. Projection of the tiled images is state plane, Florida east zone, 1983 (2011), US feet, and the projection of the mosaic is state plane, Florida east zone, 1983 HARN, US feet.<\/SPAN><\/P><\/DIV><\/DIV>",
"name": "Imagery/Okeechobee",
"description": " Aerial-imagery mosaic for Okeechobee County, 2024, RGBI, 4 band, natural color, 6-inch resolution. This is an ArcGIS raster mosaic dataset, with overviews, covering Okeechobee and Glades Counties. Aerial imagery collected by Sanborn (1935 Jamboree Dr Suite 100 Colorado Springs, CO), between January 10th and February 3rd, 2024. In conjunction with Glades county, it covers a span of 2,058 sq miles. The orthophotographs are gridded as 5,000 feet x 5000 feet modular tiles. Okeechobee county consists of 1110 tiles with 6-inch resolution, formatted as 8-bit 4-band RGBI TIFF. Projection of the tiled images is state plane, Florida east zone, 1983 (2011), US feet, and the projection of the mosaic is state plane, Florida east zone, 1983 HARN, US feet.<\/SPAN><\/P><\/DIV><\/DIV>",
"extent": {
"xmin": 584999.0212785788,
"ymin": 950001.867594406,
"xmax": 764999.0212785788,
"ymax": 1205001.867594406,
"spatialReference": {
"wkid": 2881,
"latestWkid": 2881
}
},
"initialExtent": {
"xmin": 584999.0212785788,
"ymin": 950001.867594406,
"xmax": 764999.0212785788,
"ymax": 1205001.867594406,
"spatialReference": {
"wkid": 2881,
"latestWkid": 2881
}
},
"fullExtent": {
"xmin": 584999.0212785788,
"ymin": 950001.867594406,
"xmax": 764999.0212785788,
"ymax": 1205001.867594406,
"spatialReference": {
"wkid": 2881,
"latestWkid": 2881
}
},
"sortableFields": "MinPS,MaxPS,LowPS,HighPS,CenterX,CenterY,ZOrder,Shape_Length,Shape_Area",
"bandCount": 4,
"pixelType": "U8",
"minValues": [
0,
0,
0,
1
],
"maxValues": [
232,
228,
224,
226
],
"meanValues": [
98.83963077513653,
89.86955831028935,
74.63693605585085,
143.9492646778934
],
"stdvValues": [
25.67406538564252,
22.734462165369838,
19.40098505637544,
43.78542497264527
],
"hasMultidimensions": false,
"pixelSizeX": 0.5,
"pixelSizeY": 0.5,
"meanPixelSize": 0.15240030480060962,
"datasetFormat": "AMD",
"uncompressedSize": 734400000000,
"blockWidth": 2048,
"blockHeight": 256,
"compressionType": "None",
"bandNames": [
"Band_1",
"Band_2",
"Band_3",
"Band_4"
],
"allowCopy": true,
"allowAnalysis": true,
"itemAccess": false,
"inspectionCapabilities": "",
"minPixelSize": 0,
"maxPixelSize": 0,
"copyrightText": "Source credit goes to The Sanborn Map Company, Inc. that was contracted by Florida Department of Revenue (F-DOR), Florida Department of Transportation (FDOT). SFWMD, Geospatial Services: Geospatial Services is a unit within the South Florida Water Management District Information Technology Bureau (ITB). Geospatial Services manages and maintains enterprise geospatial services, products, and data and is governed by the ITB Policies and Procedures.",
"serviceDataType": "esriImageServiceDataTypeGeneric",
"serviceSourceType": "esriImageServiceSourceTypeMosaicDataset",
"objectIdField": "OBJECTID",
"fields": [
{
"name": "OBJECTID",
"type": "esriFieldTypeOID",
"alias": "OBJECTID",
"domain": null
},
{
"name": "Shape",
"type": "esriFieldTypeGeometry",
"alias": "Shape",
"domain": null
},
{
"name": "Name",
"type": "esriFieldTypeString",
"alias": "Name",
"domain": null,
"length": 200
},
{
"name": "MinPS",
"type": "esriFieldTypeDouble",
"alias": "MinPS",
"domain": null
},
{
"name": "MaxPS",
"type": "esriFieldTypeDouble",
"alias": "MaxPS",
"domain": null
},
{
"name": "LowPS",
"type": "esriFieldTypeDouble",
"alias": "LowPS",
"domain": null
},
{
"name": "HighPS",
"type": "esriFieldTypeDouble",
"alias": "HighPS",
"domain": null
},
{
"name": "Category",
"type": "esriFieldTypeInteger",
"alias": "Category",
"domain": {
"type": "codedValue",
"name": "MosaicCatalogItemCategoryDomain",
"description": "Catalog item categories.",
"codedValues": [
{
"name": "Unknown",
"code": 0
},
{
"name": "Primary",
"code": 1
},
{
"name": "Overview",
"code": 2
},
{
"name": "Unprocessed Overview",
"code": 3
},
{
"name": "Partial Overview",
"code": 4
},
{
"name": "Inactive",
"code": 5
},
{
"name": "Uploaded",
"code": 253
},
{
"name": "Incomplete",
"code": 254
},
{
"name": "Custom",
"code": 255
}
],
"mergePolicy": "esriMPTDefaultValue",
"splitPolicy": "esriSPTDefaultValue"
}
},
{
"name": "Tag",
"type": "esriFieldTypeString",
"alias": "Tag",
"domain": null,
"length": 100
},
{
"name": "GroupName",
"type": "esriFieldTypeString",
"alias": "GroupName",
"domain": null,
"length": 100
},
{
"name": "ProductName",
"type": "esriFieldTypeString",
"alias": "ProductName",
"domain": null,
"length": 100
},
{
"name": "CenterX",
"type": "esriFieldTypeDouble",
"alias": "CenterX",
"domain": null
},
{
"name": "CenterY",
"type": "esriFieldTypeDouble",
"alias": "CenterY",
"domain": null
},
{
"name": "ZOrder",
"type": "esriFieldTypeInteger",
"alias": "ZOrder",
"domain": null
},
{
"name": "Shape_Length",
"type": "esriFieldTypeDouble",
"alias": "Shape_Length",
"domain": null
},
{
"name": "Shape_Area",
"type": "esriFieldTypeDouble",
"alias": "Shape_Area",
"domain": null
}
],
"capabilities": "Image,Metadata,Catalog",
"defaultMosaicMethod": "Northwest",
"allowedMosaicMethods": "NorthWest,Center,LockRaster,ByAttribute,Nadir,Viewpoint,Seamline,None",
"sortField": "",
"sortValue": null,
"sortAscending": true,
"mosaicOperator": "First",
"maxDownloadSizeLimit": 2048,
"defaultCompressionQuality": 75,
"defaultResamplingMethod": "Bilinear",
"maxImageHeight": 4100,
"maxImageWidth": 15000,
"maxRecordCount": 1000,
"maxDownloadImageCount": 20,
"maxMosaicImageCount": 20,
"allowRasterFunction": true,
"rasterFunctionInfos": [
{
"name": "None",
"description": "",
"help": ""
}
],
"rasterTypeInfos": [
{
"name": "Raster Dataset",
"description": "Supports all ArcGIS Raster Datasets",
"help": ""
}
],
"mensurationCapabilities": "None",
"hasHistograms": true,
"hasColormap": false,
"hasRasterAttributeTable": false,
"minScale": 0,
"maxScale": 0,
"exportTilesAllowed": false,
"supportsStatistics": true,
"supportsAdvancedQueries": true,
"editFieldsInfo": null,
"ownershipBasedAccessControlForRasters": null,
"allowComputeTiePoints": false,
"useStandardizedQueries": true,
"advancedQueryCapabilities": {
"useStandardizedQueries": true,
"supportsStatistics": true,
"supportsOrderBy": true,
"supportsDistinct": true,
"supportsPagination": true
},
"spatialReference": {
"wkid": 2881,
"latestWkid": 2881
}
}