{ "currentVersion": 11.3, "serviceDescription": "
Aerial imagery mosaic for Miami Dade County, RGBI natural color, 4-band, 3-inch and 6-inch resolution. This is an ArcGIS raster mosaic dataset of digital orthophotos, with overviews, covering all of Miami Dade County. The mosaic will include all imagery acquisition from 2023 onward. The projection of the tiles is in State Plane Florida East Zone NAD 83 (2011), US feet. The projection of the mosaic is state plane, Florida east zone, 1983-HARN, US feet.<\/p>
Currently it has 2023 imagery that was collected/flown December 28th, 2022, January 5th to 7th, 2023, January 9th, 2023, January 11th to 12th, 2023, January 15th to 16th, 2023, February 13th to 14th, 2023, February 23rd, 2023, February 25th to 26th, 2023, February 28th, 2023, March 1st, 2023 and April 5th, 2023.<\/font><\/p>",
"name": "Imagery/MiamiDade",
"description": " Aerial imagery mosaic for Miami Dade County, RGBI natural color, 4-band, 3-inch and 6-inch resolution. This is an ArcGIS raster mosaic dataset of digital orthophotos, with overviews, covering all of Miami Dade County. The mosaic will include all imagery acquisition from 2023 onward. The projection of the tiles is in State Plane Florida East Zone NAD 83 (2011), US feet. The projection of the mosaic is state plane, Florida east zone, 1983-HARN, US feet.<\/p> Currently it has 2023 imagery that was collected/flown December 28th, 2022, January 5th to 7th, 2023, January 9th, 2023, January 11th to 12th, 2023, January 15th to 16th, 2023, February 13th to 14th, 2023, February 23rd, 2023, February 25th to 26th, 2023, February 28th, 2023, March 1st, 2023 and April 5th, 2023.<\/font><\/p>",
"extent": {
"xmin": 674999.0450183302,
"ymin": 290001.4708254039,
"xmax": 949999.2950183302,
"ymax": 615001.7208254039,
"spatialReference": {
"wkid": 2881,
"latestWkid": 2881
}
},
"initialExtent": {
"xmin": 674999.0450183302,
"ymin": 290001.4708254039,
"xmax": 949999.2950183302,
"ymax": 615001.7208254039,
"spatialReference": {
"wkid": 2881,
"latestWkid": 2881
}
},
"fullExtent": {
"xmin": 674999.0450183302,
"ymin": 290001.4708254039,
"xmax": 949999.2950183302,
"ymax": 615001.7208254039,
"spatialReference": {
"wkid": 2881,
"latestWkid": 2881
}
},
"sortableFields": "MinPS,MaxPS,LowPS,HighPS,CenterX,CenterY,ZOrder,Shape_Length,Shape_Area",
"bandCount": 4,
"pixelType": "U8",
"minValues": [
5,
9,
3,
1
],
"maxValues": [
252,
253,
253,
255
],
"meanValues": [
92.98500207073504,
95.3762488902018,
87.83290441151908,
125.91633576837022
],
"stdvValues": [
23.86863244181887,
20.8861990926937,
21.28100380113807,
40.191004970864576
],
"hasMultidimensions": false,
"pixelSizeX": 0.25,
"pixelSizeY": 0.25,
"meanPixelSize": 0.07620015240030481,
"datasetFormat": "AMD",
"uncompressedSize": 5720009600004,
"blockWidth": 2048,
"blockHeight": 256,
"compressionType": "None",
"bandNames": [
"Band_1",
"Band_2",
"Band_3",
"Band_4"
],
"allowCopy": true,
"allowAnalysis": true,
"itemAccess": false,
"inspectionCapabilities": "",
"minPixelSize": 0,
"maxPixelSize": 0,
"copyrightText": "Aerial flight contractors will change. Source credit goes to Miami Dade Property Appraiser's Office, FDOR, SFWMD, Geospatial Services: Geospatial Services is a unit within the South Florida Water Management District Information Technology Bureau (ITB). Geospatial Services manages and maintains enterprise geospatial services, products, and data and is governed by the ITB Policies and Procedures.",
"serviceDataType": "esriImageServiceDataTypeGeneric",
"serviceSourceType": "esriImageServiceSourceTypeMosaicDataset",
"objectIdField": "OBJECTID",
"fields": [
{
"name": "OBJECTID",
"type": "esriFieldTypeOID",
"alias": "OBJECTID",
"domain": null
},
{
"name": "Shape",
"type": "esriFieldTypeGeometry",
"alias": "Shape",
"domain": null
},
{
"name": "Name",
"type": "esriFieldTypeString",
"alias": "Name",
"domain": null,
"length": 200
},
{
"name": "MinPS",
"type": "esriFieldTypeDouble",
"alias": "MinPS",
"domain": null
},
{
"name": "MaxPS",
"type": "esriFieldTypeDouble",
"alias": "MaxPS",
"domain": null
},
{
"name": "LowPS",
"type": "esriFieldTypeDouble",
"alias": "LowPS",
"domain": null
},
{
"name": "HighPS",
"type": "esriFieldTypeDouble",
"alias": "HighPS",
"domain": null
},
{
"name": "Category",
"type": "esriFieldTypeInteger",
"alias": "Category",
"domain": {
"type": "codedValue",
"name": "MosaicCatalogItemCategoryDomain",
"description": "Catalog item categories.",
"codedValues": [
{
"name": "Unknown",
"code": 0
},
{
"name": "Primary",
"code": 1
},
{
"name": "Overview",
"code": 2
},
{
"name": "Unprocessed Overview",
"code": 3
},
{
"name": "Partial Overview",
"code": 4
},
{
"name": "Inactive",
"code": 5
},
{
"name": "Uploaded",
"code": 253
},
{
"name": "Incomplete",
"code": 254
},
{
"name": "Custom",
"code": 255
}
],
"mergePolicy": "esriMPTDefaultValue",
"splitPolicy": "esriSPTDefaultValue"
}
},
{
"name": "Tag",
"type": "esriFieldTypeString",
"alias": "Tag",
"domain": null,
"length": 100
},
{
"name": "GroupName",
"type": "esriFieldTypeString",
"alias": "GroupName",
"domain": null,
"length": 100
},
{
"name": "ProductName",
"type": "esriFieldTypeString",
"alias": "ProductName",
"domain": null,
"length": 100
},
{
"name": "CenterX",
"type": "esriFieldTypeDouble",
"alias": "CenterX",
"domain": null
},
{
"name": "CenterY",
"type": "esriFieldTypeDouble",
"alias": "CenterY",
"domain": null
},
{
"name": "ZOrder",
"type": "esriFieldTypeInteger",
"alias": "ZOrder",
"domain": null
},
{
"name": "Shape_Length",
"type": "esriFieldTypeDouble",
"alias": "Shape_Length",
"domain": null
},
{
"name": "Shape_Area",
"type": "esriFieldTypeDouble",
"alias": "Shape_Area",
"domain": null
}
],
"capabilities": "Image,Metadata,Catalog",
"defaultMosaicMethod": "Northwest",
"allowedMosaicMethods": "NorthWest,Center,LockRaster,ByAttribute,Nadir,Viewpoint,Seamline,None",
"sortField": "",
"sortValue": null,
"sortAscending": true,
"mosaicOperator": "First",
"maxDownloadSizeLimit": 2048,
"defaultCompressionQuality": 75,
"defaultResamplingMethod": "Bilinear",
"maxImageHeight": 4100,
"maxImageWidth": 15000,
"maxRecordCount": 1000,
"maxDownloadImageCount": 20,
"maxMosaicImageCount": 20,
"allowRasterFunction": true,
"rasterFunctionInfos": [
{
"name": "None",
"description": "A No-Op Function.",
"help": ""
}
],
"rasterTypeInfos": [
{
"name": "Raster Dataset",
"description": "Supports all ArcGIS Raster Datasets",
"help": ""
}
],
"mensurationCapabilities": "",
"hasHistograms": true,
"hasColormap": false,
"hasRasterAttributeTable": false,
"minScale": 0,
"maxScale": 0,
"exportTilesAllowed": false,
"supportsStatistics": true,
"supportsAdvancedQueries": true,
"editFieldsInfo": null,
"ownershipBasedAccessControlForRasters": null,
"allowComputeTiePoints": false,
"useStandardizedQueries": true,
"advancedQueryCapabilities": {
"useStandardizedQueries": true,
"supportsStatistics": true,
"supportsOrderBy": true,
"supportsDistinct": true,
"supportsPagination": true
},
"spatialReference": {
"wkid": 2881,
"latestWkid": 2881
}
}