<?xml version="1.0" encoding="UTF-8" standalone="no"?>
<metadata xml:lang="en">
<Esri>
<CreaDate>20200316</CreaDate>
<CreaTime>12110600</CreaTime>
<ArcGISFormat>1.0</ArcGISFormat>
<ArcGISstyle>FGDC CSDGM Metadata</ArcGISstyle>
<SyncOnce>FALSE</SyncOnce>
<DataProperties>
<lineage>
<Process Date="20200316" Name="" Time="121106" ToolSource="c:\program files (x86)\arcgis\desktop10.4\ArcToolbox\Toolboxes\Data Management Tools.tbx\CreateMosaicDataset" export="">CreateMosaicDataset C:\Image_Mgmt_Workflows\Elevation\scripts\Base\..\..\MD\SFWMD_SourceElev_MD.gdb SFWMD_Derived_Mosaic_20200316WM "PROJCS['WGS_1984_Web_Mercator_Auxiliary_Sphere',GEOGCS['GCS_WGS_1984',DATUM['D_WGS_1984',SPHEROID['WGS_1984',6378137.0,298.257223563]],PRIMEM['Greenwich',0.0],UNIT['Degree',0.0174532925199433]],PROJECTION['Mercator_Auxiliary_Sphere'],PARAMETER['False_Easting',0.0],PARAMETER['False_Northing',0.0],PARAMETER['Central_Meridian',0.0],PARAMETER['Standard_Parallel_1',0.0],PARAMETER['Auxiliary_Sphere_Type',0.0],UNIT['Meter',1.0]];-20037700 -30241100 10000;-100000 10000;-100000 10000;0.001;0.001;0.001;IsHighPrecision" 1 32_BIT_FLOAT NONE #</Process>
<Process Date="20200316" Name="" Time="121231" ToolSource="c:\program files (x86)\arcgis\desktop10.4\ArcToolbox\Toolboxes\Data Management Tools.tbx\AddRastersToMosaicDataset" export="">AddRastersToMosaicDataset C:\Image_Mgmt_Workflows\Elevation\scripts\Base\..\..\MD\SFWMD_SourceElev_MD.gdb\SFWMD_Derived_Mosaic_20200316WM Table C:\Image_Mgmt_Workflows\Elevation\scripts\Base\..\..\MD\SFWMD_SourceElev_MD.gdb\BBCW_2016;C:\Image_Mgmt_Workflows\Elevation\scripts\Base\..\..\MD\SFWMD_SourceElev_MD.gdb\Brevard_2007;C:\Image_Mgmt_Workflows\Elevation\scripts\Base\..\..\MD\SFWMD_SourceElev_MD.gdb\Broward_2018;C:\Image_Mgmt_Workflows\Elevation\scripts\Base\..\..\MD\SFWMD_SourceElev_MD.gdb\C111_2015;C:\Image_Mgmt_Workflows\Elevation\scripts\Base\..\..\MD\SFWMD_SourceElev_MD.gdb\C139Annex_2013;C:\Image_Mgmt_Workflows\Elevation\scripts\Base\..\..\MD\SFWMD_SourceElev_MD.gdb\C24_2018;C:\Image_Mgmt_Workflows\Elevation\scripts\Base\..\..\MD\SFWMD_SourceElev_MD.gdb\COASTAL_2017;C:\Image_Mgmt_Workflows\Elevation\scripts\Base\..\..\MD\SFWMD_SourceElev_MD.gdb\DinnerIsland_2016;C:\Image_Mgmt_Workflows\Elevation\scripts\Base\..\..\MD\SFWMD_SourceElev_MD.gdb\EasternCharlotte_2011;C:\Image_Mgmt_Workflows\Elevation\scripts\Base\..\..\MD\SFWMD_SourceElev_MD.gdb\ENP_2017;C:\Image_Mgmt_Workflows\Elevation\scripts\Base\..\..\MD\SFWMD_SourceElev_MD.gdb\FeederCanal_2015;C:\Image_Mgmt_Workflows\Elevation\scripts\Base\..\..\MD\SFWMD_SourceElev_MD.gdb\FloridaKeys_2007;C:\Image_Mgmt_Workflows\Elevation\scripts\Base\..\..\MD\SFWMD_SourceElev_MD.gdb\HHD_2014;C:\Image_Mgmt_Workflows\Elevation\scripts\Base\..\..\MD\SFWMD_SourceElev_MD.gdb\HAED_2007;C:\Image_Mgmt_Workflows\Elevation\scripts\Base\..\..\MD\SFWMD_SourceElev_MD.gdb\HHD_EAA_2007;C:\Image_Mgmt_Workflows\Elevation\scripts\Base\..\..\MD\SFWMD_SourceElev_MD.gdb\HHD_NW_2010;C:\Image_Mgmt_Workflows\Elevation\scripts\Base\..\..\MD\SFWMD_SourceElev_MD.gdb\Hillsborough_2011;C:\Image_Mgmt_Workflows\Elevation\scripts\Base\..\..\MD\SFWMD_SourceElev_MD.gdb\IndianRiver_2007;C:\Image_Mgmt_Workflows\Elevation\scripts\Base\..\..\MD\SFWMD_SourceElev_MD.gdb\Lake_2006;C:\Image_Mgmt_Workflows\Elevation\scripts\Base\..\..\MD\SFWMD_SourceElev_MD.gdb\LakeOkee_CompBathym_2008;C:\Image_Mgmt_Workflows\Elevation\scripts\Base\..\..\MD\SFWMD_SourceElev_MD.gdb\LeeCharlotte_2007;C:\Image_Mgmt_Workflows\Elevation\scripts\Base\..\..\MD\SFWMD_SourceElev_MD.gdb\LowerKissimmee_2011;C:\Image_Mgmt_Workflows\Elevation\scripts\Base\..\..\MD\SFWMD_SourceElev_MD.gdb\Manatee_2012;C:\Image_Mgmt_Workflows\Elevation\scripts\Base\..\..\MD\SFWMD_SourceElev_MD.gdb\Martin_2016;C:\Image_Mgmt_Workflows\Elevation\scripts\Base\..\..\MD\SFWMD_SourceElev_MD.gdb\MartinStLucie_2007;C:\Image_Mgmt_Workflows\Elevation\scripts\Base\..\..\MD\SFWMD_SourceElev_MD.gdb\MiamiDade_2015;C:\Image_Mgmt_Workflows\Elevation\scripts\Base\..\..\MD\SFWMD_SourceElev_MD.gdb\MiamiDade_2018;C:\Image_Mgmt_Workflows\Elevation\scripts\Base\..\..\MD\SFWMD_SourceElev_MD.gdb\OkaloacoocheeSlough_2017;C:\Image_Mgmt_Workflows\Elevation\scripts\Base\..\..\MD\SFWMD_SourceElev_MD.gdb\Orange_2008;C:\Image_Mgmt_Workflows\Elevation\scripts\Base\..\..\MD\SFWMD_SourceElev_MD.gdb\Osceola_2016;C:\Image_Mgmt_Workflows\Elevation\scripts\Base\..\..\MD\SFWMD_SourceElev_MD.gdb\PalmBeach_2017;C:\Image_Mgmt_Workflows\Elevation\scripts\Base\..\..\MD\SFWMD_SourceElev_MD.gdb\PeaceSouth_2005;C:\Image_Mgmt_Workflows\Elevation\scripts\Base\..\..\MD\SFWMD_SourceElev_MD.gdb\Pinellas_2007;C:\Image_Mgmt_Workflows\Elevation\scripts\Base\..\..\MD\SFWMD_SourceElev_MD.gdb\Polk_2005;C:\Image_Mgmt_Workflows\Elevation\scripts\Base\..\..\MD\SFWMD_SourceElev_MD.gdb\Sarasota_2007;C:\Image_Mgmt_Workflows\Elevation\scripts\Base\..\..\MD\SFWMD_SourceElev_MD.gdb\Seminole_BigCypress_2014;C:\Image_Mgmt_Workflows\Elevation\scripts\Base\..\..\MD\SFWMD_SourceElev_MD.gdb\SF_Comp_2020;C:\Image_Mgmt_Workflows\Elevation\scripts\Base\..\..\MD\SFWMD_SourceElev_MD.gdb\SixLs_Levee_2015;C:\Image_Mgmt_Workflows\Elevation\scripts\Base\..\..\MD\SFWMD_SourceElev_MD.gdb\SWF_2018;C:\Image_Mgmt_Workflows\Elevation\scripts\Base\..\..\MD\SFWMD_SourceElev_MD.gdb\UpperSJR_2012;C:\Image_Mgmt_Workflows\Elevation\scripts\Base\..\..\MD\SFWMD_SourceElev_MD.gdb\WERP_2017;C:\Image_Mgmt_Workflows\Elevation\scripts\Base\..\..\MD\SFWMD_SourceElev_MD.gdb\YuccaPens_2016 UPDATE_CELL_SIZES UPDATE_BOUNDARY NO_OVERVIEWS # 0 1500 # # SUBFOLDERS ALLOW_DUPLICATES NO_PYRAMIDS NO_STATISTICS NO_THUMBNAILS # NO_FORCE_SPATIAL_REFERENCE NO_STATISTICS #</Process>
<Process Date="20200316" Name="" Time="121238" ToolSource="c:\program files (x86)\arcgis\desktop10.4\ArcToolbox\Toolboxes\Data Management Tools.tbx\BuildBoundary" export="">BuildBoundary C:\Image_Mgmt_Workflows\Elevation\scripts\Base\..\..\MD\SFWMD_SourceElev_MD.gdb\SFWMD_Derived_Mosaic_20200316WM "NOT "Name" = 'World_0_DD'" OVERWRITE ENVELOPE</Process>
<Process Date="20200316" Name="" Time="121241" ToolSource="c:\program files (x86)\arcgis\desktop10.4\ArcToolbox\Toolboxes\Data Management Tools.tbx\CalculateCellSizeRanges" export="">CalculateCellSizeRanges C:\Image_Mgmt_Workflows\Elevation\scripts\Base\..\..\MD\SFWMD_SourceElev_MD.gdb\SFWMD_Derived_Mosaic_20200316WM # NO_MIN_CELL_SIZES NO_MAX_CELL_SIZES 10 999 UPDATE_ALL</Process>
<Process Date="20200317" Name="" Time="224857" ToolSource="c:\program files (x86)\arcgis\desktop10.4\ArcToolbox\Toolboxes\Data Management Tools.tbx\CalculateStatistics" export="">CalculateStatistics \\whqgbat01p\LiDARData\Image_Work\SFWMD_SourceElev_MD_WM_20200316.gdb\SFWMD_Derived_Mosaic_20200316WM 10 10 # SKIP_EXISTING "Feature Set"</Process>
<Process Date="20200318" Name="" Time="131010" ToolSource="c:\program files (x86)\arcgis\desktop10.4\ArcToolbox\Toolboxes\Data Management Tools.tbx\AnalyzeMosaicDataset" export="">AnalyzeMosaicDataset F:\LiDARData\Image_Work\SFWMD_SourceElev_MD_WM_20200316.gdb\SFWMD_Derived_Mosaic_20200316WM # FOOTPRINT;FUNCTION;RASTER;PATHS</Process>
</lineage>
<itemProps>
<itemName Sync="TRUE">SP_SM_VDATUM_DIF_1000FT</itemName>
<itemLocation>
<linkage Sync="TRUE">file://\\ad.sfwmd.gov\dfsroot\GS\GSElev\ElevImageMosaics\DatumShift.gdb</linkage>
<protocol Sync="TRUE">Local Area Network</protocol>
</itemLocation>
<nativeExtBox>
<westBL Sync="TRUE">-20000.000000</westBL>
<eastBL Sync="TRUE">987000.000000</eastBL>
<southBL Sync="TRUE">0.000000</southBL>
<northBL Sync="TRUE">1702000.000000</northBL>
<exTypeCode Sync="TRUE">1</exTypeCode>
</nativeExtBox>
<imsContentType export="False">007</imsContentType>
</itemProps>
<coordRef>
<type Sync="TRUE">Projected</type>
<geogcsn Sync="TRUE">GCS_North_American_1983_HARN</geogcsn>
<csUnits Sync="TRUE">Linear Unit: Foot_US (0.304801)</csUnits>
<projcsn Sync="TRUE">NAD_1983_HARN_StatePlane_Florida_East_FIPS_0901_Feet</projcsn>
<peXml Sync="TRUE">&lt;ProjectedCoordinateSystem xsi:type='typens:ProjectedCoordinateSystem' xmlns:xsi='http://www.w3.org/2001/XMLSchema-instance' xmlns:xs='http://www.w3.org/2001/XMLSchema' xmlns:typens='http://www.esri.com/schemas/ArcGIS/10.4'&gt;&lt;WKT&gt;PROJCS[&amp;quot;NAD_1983_HARN_StatePlane_Florida_East_FIPS_0901_Feet&amp;quot;,GEOGCS[&amp;quot;GCS_North_American_1983_HARN&amp;quot;,DATUM[&amp;quot;D_North_American_1983_HARN&amp;quot;,SPHEROID[&amp;quot;GRS_1980&amp;quot;,6378137.0,298.257222101]],PRIMEM[&amp;quot;Greenwich&amp;quot;,0.0],UNIT[&amp;quot;Degree&amp;quot;,0.0174532925199433]],PROJECTION[&amp;quot;Transverse_Mercator&amp;quot;],PARAMETER[&amp;quot;False_Easting&amp;quot;,656166.6666666665],PARAMETER[&amp;quot;False_Northing&amp;quot;,0.0],PARAMETER[&amp;quot;Central_Meridian&amp;quot;,-81.0],PARAMETER[&amp;quot;Scale_Factor&amp;quot;,0.9999411764705882],PARAMETER[&amp;quot;Latitude_Of_Origin&amp;quot;,24.33333333333333],UNIT[&amp;quot;Foot_US&amp;quot;,0.3048006096012192],AUTHORITY[&amp;quot;EPSG&amp;quot;,2881]]&lt;/WKT&gt;&lt;XOrigin&gt;-17791300&lt;/XOrigin&gt;&lt;YOrigin&gt;-41645400&lt;/YOrigin&gt;&lt;XYScale&gt;137249422.94257641&lt;/XYScale&gt;&lt;ZOrigin&gt;-100000&lt;/ZOrigin&gt;&lt;ZScale&gt;10000&lt;/ZScale&gt;&lt;MOrigin&gt;-100000&lt;/MOrigin&gt;&lt;MScale&gt;10000&lt;/MScale&gt;&lt;XYTolerance&gt;0.0032808333333333331&lt;/XYTolerance&gt;&lt;ZTolerance&gt;0.001&lt;/ZTolerance&gt;&lt;MTolerance&gt;0.001&lt;/MTolerance&gt;&lt;HighPrecision&gt;true&lt;/HighPrecision&gt;&lt;WKID&gt;2881&lt;/WKID&gt;&lt;LatestWKID&gt;2881&lt;/LatestWKID&gt;&lt;/ProjectedCoordinateSystem&gt;</peXml>
</coordRef>
<RasterProperties>
<General>
<PixelDepth Sync="TRUE">32</PixelDepth>
<HasColormap Sync="TRUE">FALSE</HasColormap>
<CompressionType Sync="TRUE">None</CompressionType>
<NumBands Sync="TRUE">1</NumBands>
<Format Sync="TRUE">AMD</Format>
<HasPyramids Sync="TRUE">TRUE</HasPyramids>
<SourceType Sync="TRUE">continuous</SourceType>
<PixelType Sync="TRUE">floating point</PixelType>
<NoDataValue Sync="TRUE"/>
</General>
<Properties>
<MaxImageHeight Sync="TRUE">4100</MaxImageHeight>
<MaxImageWidth Sync="TRUE">15000</MaxImageWidth>
<MaxRecordCount Sync="TRUE">1000</MaxRecordCount>
<MaxDownloadImageCount Sync="TRUE">20</MaxDownloadImageCount>
<MaxDownloadSizeLimit Sync="TRUE">2048</MaxDownloadSizeLimit>
<MaxMosaicImageCount Sync="TRUE">20</MaxMosaicImageCount>
<DefaultCompressionQuality Sync="TRUE">75</DefaultCompressionQuality>
<DefaultCompressionTolerance Sync="TRUE">0.01</DefaultCompressionTolerance>
<BlendWidth Sync="TRUE">10</BlendWidth>
<ViewpointSpacingX Sync="TRUE">600</ViewpointSpacingX>
<ViewpointSpacingY Sync="TRUE">300</ViewpointSpacingY>
<AllowedItemMetadata Sync="TRUE">Basic</AllowedItemMetadata>
<DefaultResamplingMethod Sync="TRUE">1</DefaultResamplingMethod>
<AllowedMosaicMethods Sync="TRUE">NorthWest,Center,LockRaster,ByAttribute,Nadir,Viewpoint,Seamline,None</AllowedMosaicMethods>
<AllowedCompressions Sync="TRUE">None,JPEG,LZ77,LERC</AllowedCompressions>
<AllowedMensurationCapabilities Sync="TRUE">Basic</AllowedMensurationCapabilities>
<AvailableMensurationCapabilities Sync="TRUE">None,Basic,Base-Top Height,Top-Top Shadow Height,Base-Top Shadow Height,3D</AvailableMensurationCapabilities>
<ClipToBoundary Sync="TRUE">-1</ClipToBoundary>
<FootprintMayContainNoData Sync="TRUE">-1</FootprintMayContainNoData>
<CellSizeTolerance Sync="TRUE">0.8</CellSizeTolerance>
<MinimumPixelContribution Sync="TRUE">1</MinimumPixelContribution>
<AvailableMosaicMethods Sync="TRUE">NorthWest,Center,LockRaster,ByAttribute,Nadir,Viewpoint,Seamline,None</AvailableMosaicMethods>
<AvailableCompressionMethods Sync="TRUE">None,JPEG,LZ77,LERC</AvailableCompressionMethods>
<AvailableItemMetadataLevels Sync="TRUE">None,Basic,Full</AvailableItemMetadataLevels>
<ConfigKeyword Sync="TRUE"/>
<BandDefinitionKeyword Sync="TRUE">NONE</BandDefinitionKeyword>
<AllowedFields Sync="TRUE">Name,MinPS,MaxPS,LowPS,HighPS,Tag,GroupName,ProductName,CenterX,CenterY,ZOrder,Shape_Length,Shape_Area</AllowedFields>
<LowCellSize Sync="TRUE">1000</LowCellSize>
<HighCellSize Sync="TRUE">1000</HighCellSize>
<MaxCellSize Sync="TRUE">10000</MaxCellSize>
</Properties>
<Functions Sync="TRUE">
<Function Description="Performs on-the-fly mosaic on a raster catalog." Name="Mosaic Function"/>
</Functions>
</RasterProperties>
</DataProperties>
<SyncDate>20200401</SyncDate>
<SyncTime>12345200</SyncTime>
<ModDate>20200401</ModDate>
<ModTime>12345200</ModTime>
<scaleRange>
<minScale>150000000</minScale>
<maxScale>5000</maxScale>
</scaleRange>
<ArcGISProfile>FGDC</ArcGISProfile>
</Esri>
<dataIdInfo>
<envirDesc Sync="TRUE"> Version 6.2 (Build 9200) ; Esri ArcGIS 10.4.1.5686</envirDesc>
<dataLang>
<languageCode Sync="TRUE" value="eng"/>
<countryCode Sync="TRUE" value="USA"/>
</dataLang>
<idCitation>
<resTitle Sync="FALSE">SP_SM_VDATUM_DIF_1000FT</resTitle>
<presForm>
<PresFormCd Sync="TRUE" value="005"/>
</presForm>
<citRespParty>
<editorSource>external</editorSource>
<editorDigest>3340cf526416c486b155e67907d8efe</editorDigest>
<rpIndName>Geospatial Services</rpIndName>
<rpOrgName>South Florida Water Management District</rpOrgName>
<rpCntInfo>
<cntAddress addressType="both">
<delPoint>3301 Gun Club Road</delPoint>
<city>West Palm Beach</city>
<adminArea>Florida</adminArea>
<postCode>33416-4680</postCode>
<eMailAdd>GISData@sfwmd.gov</eMailAdd>
<country>US</country>
</cntAddress>
<cntPhone>
<voiceNum tddtty="">561-682-6080</voiceNum>
</cntPhone>
<cntHours>Monday to Friday, 9:00 AM to 5:00 PM</cntHours>
<cntInstr>Prefer email correspondence</cntInstr>
</rpCntInfo>
<editorSave>True</editorSave>
<displayName>Geospatial Services</displayName>
<role>
<RoleCd value="006"/>
</role>
</citRespParty>
<date>
<pubDate>2020-03-16T00:00:00</pubDate>
</date>
</idCitation>
<spatRpType>
<SpatRepTypCd Sync="TRUE" value="002"/>
</spatRpType>
<dataExt>
<geoEle>
<GeoBndBox esriExtentType="search">
<exTypeCode Sync="TRUE">1</exTypeCode>
<westBL Sync="TRUE">-83.114979</westBL>
<eastBL Sync="TRUE">-79.964966</eastBL>
<northBL Sync="TRUE">29.015705</northBL>
<southBL Sync="TRUE">24.319751</southBL>
</GeoBndBox>
</geoEle>
</dataExt>
<idPurp>Raster dataset with vertical datum elevation differences between the NGVD29 and NAVD88 vertical datums, 1000 ft vertcon05.</idPurp>
<idAbs>&lt;DIV STYLE="text-align:Left;"&gt;&lt;DIV&gt;&lt;DIV&gt;&lt;P&gt;&lt;SPAN&gt;Raster dataset with vertical datum elevation differences between the NGVD29 and NAVD88 vertical datums, 1000 ft vertcon05. Gridded values represent the difference in elevation values, in feet, between two vertical reference systems -- National Geodetic Vertical Datum of 1929 (NGVD29) and North American Vertical Datum of 1988 (NAVD88). The current standard reference for elevation, or vertical datum, is NAVD88 but some data still exist in NGVD29 and for some purposes it is still necessary to work in NGVD29. &lt;/SPAN&gt;&lt;/P&gt;&lt;P&gt;&lt;SPAN&gt;Raster values represent the difference between the two datums and can be used to convert from NAVD88 to NGVD29 by adding the datum difference to NAVD88 values or subtracting the datum difference to go from NGVD29 to NAVD88. &lt;/SPAN&gt;&lt;/P&gt;&lt;P&gt;&lt;SPAN&gt;The datum-shift values were converted from the Corpscon software, version 6, using VertCon05 (version 2.5), which was put together by USACE/TEC and includes recent survey monumentation for southern Florida. The VertCon05 is intended as an improvement on the older VertCon94, which previously was provided by the NGDC as part of the standard VertCon conversion package. This dataset covers all of southern Florida, up to 29-degrees latitude. &lt;/SPAN&gt;&lt;/P&gt;&lt;/DIV&gt;&lt;/DIV&gt;&lt;/DIV&gt;</idAbs>
<idCredit>SFWMD, Geospatial Services: Geospatial Services is a unit within the South Florida Water Management District’s Information Technology Bureau (ITB). Geospatial Services manages and maintains enterprise geospatial services, products, and data and is governed by the ITB's Policies and Procedures.</idCredit>
<searchKeys>
<keyword>NGVD29</keyword>
<keyword>NAVD88</keyword>
<keyword>vertical</keyword>
<keyword>conversion</keyword>
<keyword>elevation</keyword>
<keyword>topography</keyword>
<keyword>DEM</keyword>
<keyword>datum shift</keyword>
<keyword>digital elevation model</keyword>
<keyword>DEM</keyword>
</searchKeys>
<resConst>
<Consts>
<useLimit>&lt;DIV STYLE="text-align:Left;"&gt;&lt;DIV&gt;&lt;DIV&gt;&lt;P&gt;&lt;SPAN&gt;None. However, users should be aware that temporal changes may have occurred since this data set was collected and that some parts of these data may no longer represent actual surface conditions. Users should not use these data for critical applications without a full awareness of the limitations of the data. Acknowledgment of the US Army Corps of Engineers would be appreciated for products derived from these data.The data represented is the result of data collection and processing per contract specifications and indicates the general existing conditions at the time of the data collection. As such, it is only valid for its intended use, content, time, and accuracy specifications. The user is responsible for the results of any application of the data for other than its intended purpose.&lt;/SPAN&gt;&lt;/P&gt;&lt;/DIV&gt;&lt;/DIV&gt;&lt;/DIV&gt;</useLimit>
</Consts>
</resConst>
<dataChar>
<CharSetCd value="004"/>
</dataChar>
<idStatus>
<ProgCd value="004"/>
</idStatus>
<idPoC>
<editorSource>external</editorSource>
<editorDigest>3340cf526416c486b155e67907d8efe</editorDigest>
<rpIndName>Geospatial Services</rpIndName>
<rpOrgName>South Florida Water Management District</rpOrgName>
<rpCntInfo>
<cntAddress addressType="both">
<delPoint>3301 Gun Club Road</delPoint>
<city>West Palm Beach</city>
<adminArea>Florida</adminArea>
<postCode>33416-4680</postCode>
<eMailAdd>GISData@sfwmd.gov</eMailAdd>
<country>US</country>
</cntAddress>
<cntPhone>
<voiceNum tddtty="">561-682-6080</voiceNum>
</cntPhone>
<cntHours>Monday to Friday, 9:00 AM to 5:00 PM</cntHours>
<cntInstr>Prefer email correspondence</cntInstr>
</rpCntInfo>
<editorSave>True</editorSave>
<displayName>Geospatial Services</displayName>
<role>
<RoleCd value="006"/>
</role>
</idPoC>
<resMaint>
<maintFreq>
<MaintFreqCd value="009"/>
</maintFreq>
</resMaint>
<tpCat>
<TopicCatCd value="006"/>
</tpCat>
<tpCat>
<TopicCatCd value="007"/>
</tpCat>
<tpCat>
<TopicCatCd value="008"/>
</tpCat>
<tpCat>
<TopicCatCd value="010"/>
</tpCat>
</dataIdInfo>
<mdLang>
<languageCode Sync="TRUE" value="eng"/>
<countryCode Sync="TRUE" value="USA"/>
</mdLang>
<refSysInfo>
<RefSystem>
<refSysID>
<identCode Sync="TRUE" code="2881"/>
<idCodeSpace Sync="TRUE">EPSG</idCodeSpace>
<idVersion Sync="TRUE">6.13(9.0.0)</idVersion>
</refSysID>
</RefSystem>
</refSysInfo>
<spatRepInfo>
<Georect>
<cellGeo>
<CellGeoCd Sync="TRUE" value="002"/>
</cellGeo>
<numDims Sync="TRUE">2</numDims>
<tranParaAv Sync="TRUE">1</tranParaAv>
<chkPtAv Sync="TRUE">0</chkPtAv>
<cornerPts>
<pos Sync="TRUE">-20000.000000 0.000000</pos>
</cornerPts>
<cornerPts>
<pos Sync="TRUE">-20000.000000 1702000.000000</pos>
</cornerPts>
<cornerPts>
<pos Sync="TRUE">987000.000000 1702000.000000</pos>
</cornerPts>
<cornerPts>
<pos Sync="TRUE">987000.000000 0.000000</pos>
</cornerPts>
<centerPt>
<pos Sync="TRUE">483500.000000 851000.000000</pos>
</centerPt>
<axisDimension type="002">
<dimSize Sync="TRUE">1007</dimSize>
<dimResol>
<value Sync="TRUE" uom="ftUS">1000.000000</value>
</dimResol>
</axisDimension>
<axisDimension type="001">
<dimSize Sync="TRUE">1702</dimSize>
<dimResol>
<value Sync="TRUE" uom="ftUS">1000.000000</value>
</dimResol>
</axisDimension>
<ptInPixel>
<PixOrientCd Sync="TRUE" value="001"/>
</ptInPixel>
</Georect>
</spatRepInfo>
<contInfo>
<ImgDesc>
<contentTyp>
<ContentTypCd Sync="TRUE" value="001"/>
</contentTyp>
<covDim>
<Band>
<dimDescrp Sync="TRUE">Band_1</dimDescrp>
<maxVal Sync="TRUE">1.608000</maxVal>
<minVal Sync="TRUE">0.673000</minVal>
<bitsPerVal Sync="TRUE">32</bitsPerVal>
<valUnit>
<UOM gmlID="" type="length">
<unitSymbol>[ft_us]</unitSymbol>
</UOM>
</valUnit>
</Band>
</covDim>
<attDesc>NAVD88 Elevation in Feet</attDesc>
<trianInd>False</trianInd>
<radCalDatAv>False</radCalDatAv>
<camCalInAv>False</camCalInAv>
<filmDistInAv>False</filmDistInAv>
<lensDistInAv>False</lensDistInAv>
</ImgDesc>
</contInfo>
<mdDateSt Sync="TRUE">20200401</mdDateSt>
<mdHrLv>
<ScopeCd value="005"/>
</mdHrLv>
<mdContact>
<editorSource>external</editorSource>
<editorDigest>3340cf526416c486b155e67907d8efe</editorDigest>
<rpIndName>Geospatial Services</rpIndName>
<rpOrgName>South Florida Water Management District</rpOrgName>
<rpCntInfo>
<cntAddress addressType="both">
<delPoint>3301 Gun Club Road</delPoint>
<city>West Palm Beach</city>
<adminArea>Florida</adminArea>
<postCode>33416-4680</postCode>
<eMailAdd>GISData@sfwmd.gov</eMailAdd>
<country>US</country>
</cntAddress>
<cntPhone>
<voiceNum tddtty="">561-682-6080</voiceNum>
</cntPhone>
<cntHours>Monday to Friday, 9:00 AM to 5:00 PM</cntHours>
<cntInstr>Prefer email correspondence</cntInstr>
</rpCntInfo>
<editorSave>True</editorSave>
<displayName>Geospatial Services</displayName>
<role>
<RoleCd value="005"/>
</role>
</mdContact>
<mdMaint>
<maintFreq>
<MaintFreqCd value="009"/>
</maintFreq>
</mdMaint>
<distInfo>
<distFormat>
<formatName Sync="TRUE">Raster Dataset</formatName>
</distFormat>
</distInfo>
<mdHrLvName Sync="TRUE">dataset</mdHrLvName>
</metadata>
