<?xml version="1.0" encoding="UTF-8" standalone="no"?>
<metadata xml:lang="en">
<Esri>
<CreaDate>20240702</CreaDate>
<CreaTime>13200400</CreaTime>
<ArcGISFormat>1.0</ArcGISFormat>
<SyncOnce>FALSE</SyncOnce>
<DataProperties>
<lineage>
<Process Date="20230808" Time="080614" ToolSource="c:\program files\arcgis\pro\Resources\ArcToolbox\toolboxes\Data Management Tools.tbx\CreateMosaicDataset">CreateMosaicDataset C:\Projects\SF_ElevationMosaics_20230808\SF_ElevationMosaics_20230808.gdb Template PROJCS["NAD_1983_HARN_StatePlane_Florida_East_FIPS_0901_Feet",GEOGCS["GCS_North_American_1983_HARN",DATUM["D_North_American_1983_HARN",SPHEROID["GRS_1980",6378137.0,298.257222101]],PRIMEM["Greenwich",0.0],UNIT["Degree",0.0174532925199433]],PROJECTION["Transverse_Mercator"],PARAMETER["False_Easting",656166.6666666665],PARAMETER["False_Northing",0.0],PARAMETER["Central_Meridian",-81.0],PARAMETER["Scale_Factor",0.9999411764705882],PARAMETER["Latitude_Of_Origin",24.33333333333333],UNIT["Foot_US",0.3048006096012192]],VERTCS["NAVD88_height_(ftUS)",VDATUM["North_American_Vertical_Datum_1988"],PARAMETER["Vertical_Shift",0.0],PARAMETER["Direction",1.0],UNIT["Foot_US",0.3048006096012192]] # "32-bit floating point" None #</Process>
<Process Date="20230815" Time="125448" ToolSource="c:\program files\arcgis\pro\Resources\ArcToolbox\Toolboxes\Data Management Tools.tbx\CopyMultiple">CopyMultiple "\\ad.sfwmd.gov\dfsroot\GS\GSElev\SW_Collections\SF_ElevationMosaics_20230808.gdb\Template MosaicDataset" \\ad.sfwmd.gov\dfsroot\GS\GSElev\SW_Collections\ElevationMosaic.gdb Template "Template MosaicDataset Template #"</Process>
<Process Date="20230815" Time="125604" ToolSource="c:\program files\arcgis\pro\Resources\ArcToolbox\Toolboxes\Data Management Tools.tbx\Rename">Rename \\ad.sfwmd.gov\dfsroot\GS\GSElev\SW_Collections\ElevationMosaic.gdb\Template \\ad.sfwmd.gov\dfsroot\GS\GSElev\SW_Collections\ElevationMosaic.gdb\SF_NAVD88_DEM_ServiceMosaic MosaicDataset</Process>
<Process Date="20230815" Time="125916" ToolSource="c:\program files\arcgis\pro\Resources\ArcToolbox\toolboxes\Data Management Tools.tbx\AddRastersToMosaicDataset">AddRastersToMosaicDataset \\ad.sfwmd.gov\dfsroot\GS\GSElev\SW_Collections\ElevationMosaic.gdb\SF_NAVD88_DEM_ServiceMosaic "Raster Dataset" \\ad.sfwmd.gov\dfsroot\GS\GSElev\SW_Collections\SFWMD_NAVD88_2018_DEM\SF_NAVD88_2_5FT.tif UPDATE_CELL_SIZES UPDATE_BOUNDARY NO_OVERVIEWS # 0 1500 # # SUBFOLDERS "Allow duplicates" BUILD_PYRAMIDS CALCULATE_STATISTICS BUILD_THUMBNAILS # NO_FORCE_SPATIAL_REFERENCE ESTIMATE_STATISTICS # NO_PIXEL_CACHE C:\Users\ccarlso\AppData\Local\ESRI\rasterproxies\SF_NAVD88_DEM_ServiceMosaic</Process>
<Process Date="20240702" Time="132009" ToolSource="c:\program files\arcgis\pro\Resources\ArcToolbox\Toolboxes\Data Management Tools.tbx\CopyMultiple">CopyMultiple "\\ad.sfwmd.gov\dfsroot\GS\GSImgAgs\ElevationMosaic.gdb\SF_NAVD88_DEM_ServiceMosaic MosaicDataset" \\ad.sfwmd.gov\dfsroot\GS\GSImgAgs\ElevationMosaic.gdb SF_NAVD88_DEM_ServiceMosaic_1 "SF_NAVD88_DEM_ServiceMosaic MosaicDataset SF_NAVD88_DEM_ServiceMosaic_1 #"</Process>
<Process Date="20240702" Time="132051" ToolSource="c:\program files\arcgis\pro\Resources\ArcToolbox\Toolboxes\Data Management Tools.tbx\Rename">Rename \\ad.sfwmd.gov\dfsroot\GS\GSImgAgs\ElevationMosaic.gdb\SF_NAVD88_DEM_ServiceMosaic_1 \\ad.sfwmd.gov\dfsroot\GS\GSImgAgs\ElevationMosaic.gdb\SF_NAVD88_DEM_ServiceMosaic_NGVD MosaicDataset</Process>
</lineage>
<itemProps>
<itemLocation>
<linkage Sync="TRUE">file://\\ad.sfwmd.gov\dfsroot\GS\GSImgAgs\ElevationMosaic.gdb</linkage>
<protocol Sync="TRUE">Local Area Network</protocol>
</itemLocation>
<itemName Sync="TRUE">SF_NAVD88_DEM_ServiceMosaic</itemName>
<nativeExtBox>
<westBL Sync="TRUE">8664.621784</westBL>
<eastBL Sync="TRUE">1008582.121784</eastBL>
<southBL Sync="TRUE">60843.333081</southBL>
<northBL Sync="TRUE">1780000.833081</northBL>
<exTypeCode Sync="TRUE">1</exTypeCode>
</nativeExtBox>
</itemProps>
<coordRef>
<type Sync="TRUE">Projected</type>
<geogcsn Sync="TRUE">GCS_North_American_1983_HARN</geogcsn>
<csUnits Sync="TRUE">Linear Unit: Foot_US (0.304801)</csUnits>
<projcsn Sync="TRUE">NAD_1983_HARN_StatePlane_Florida_East_FIPS_0901_Feet</projcsn>
<peXml Sync="TRUE">&lt;ProjectedCoordinateSystem xsi:type='typens:ProjectedCoordinateSystem' xmlns:xsi='http://www.w3.org/2001/XMLSchema-instance' xmlns:xs='http://www.w3.org/2001/XMLSchema' xmlns:typens='http://www.esri.com/schemas/ArcGIS/3.1.0'&gt;&lt;WKT&gt;PROJCS[&amp;quot;NAD_1983_HARN_StatePlane_Florida_East_FIPS_0901_Feet&amp;quot;,GEOGCS[&amp;quot;GCS_North_American_1983_HARN&amp;quot;,DATUM[&amp;quot;D_North_American_1983_HARN&amp;quot;,SPHEROID[&amp;quot;GRS_1980&amp;quot;,6378137.0,298.257222101]],PRIMEM[&amp;quot;Greenwich&amp;quot;,0.0],UNIT[&amp;quot;Degree&amp;quot;,0.0174532925199433]],PROJECTION[&amp;quot;Transverse_Mercator&amp;quot;],PARAMETER[&amp;quot;False_Easting&amp;quot;,656166.6666666665],PARAMETER[&amp;quot;False_Northing&amp;quot;,0.0],PARAMETER[&amp;quot;Central_Meridian&amp;quot;,-81.0],PARAMETER[&amp;quot;Scale_Factor&amp;quot;,0.9999411764705882],PARAMETER[&amp;quot;Latitude_Of_Origin&amp;quot;,24.33333333333333],UNIT[&amp;quot;Foot_US&amp;quot;,0.3048006096012192],AUTHORITY[&amp;quot;EPSG&amp;quot;,2881]],VERTCS[&amp;quot;NAVD88_height_(ftUS)&amp;quot;,VDATUM[&amp;quot;North_American_Vertical_Datum_1988&amp;quot;],PARAMETER[&amp;quot;Vertical_Shift&amp;quot;,0.0],PARAMETER[&amp;quot;Direction&amp;quot;,1.0],UNIT[&amp;quot;Foot_US&amp;quot;,0.3048006096012192],AUTHORITY[&amp;quot;EPSG&amp;quot;,6360]]&lt;/WKT&gt;&lt;XOrigin&gt;-17791300&lt;/XOrigin&gt;&lt;YOrigin&gt;-41645400&lt;/YOrigin&gt;&lt;XYScale&gt;137249422.94257641&lt;/XYScale&gt;&lt;ZOrigin&gt;-100000&lt;/ZOrigin&gt;&lt;ZScale&gt;3048.0060960121918&lt;/ZScale&gt;&lt;MOrigin&gt;-100000&lt;/MOrigin&gt;&lt;MScale&gt;10000&lt;/MScale&gt;&lt;XYTolerance&gt;0.0032808333333333331&lt;/XYTolerance&gt;&lt;ZTolerance&gt;0.0032808333333333331&lt;/ZTolerance&gt;&lt;MTolerance&gt;0.001&lt;/MTolerance&gt;&lt;HighPrecision&gt;true&lt;/HighPrecision&gt;&lt;WKID&gt;2881&lt;/WKID&gt;&lt;LatestWKID&gt;2881&lt;/LatestWKID&gt;&lt;VCSWKID&gt;105703&lt;/VCSWKID&gt;&lt;LatestVCSWKID&gt;6360&lt;/LatestVCSWKID&gt;&lt;/ProjectedCoordinateSystem&gt;</peXml>
</coordRef>
<RasterProperties>
<General>
<PixelDepth Sync="TRUE">32</PixelDepth>
<HasColormap Sync="TRUE">FALSE</HasColormap>
<CompressionType Sync="TRUE">None</CompressionType>
<NumBands Sync="TRUE">1</NumBands>
<Format Sync="TRUE">AMD</Format>
<HasPyramids Sync="TRUE">TRUE</HasPyramids>
<SourceType Sync="TRUE">continuous</SourceType>
<PixelType Sync="TRUE">floating point</PixelType>
<NoDataValue Sync="TRUE"/>
</General>
<Properties>
<MaxImageHeight Sync="TRUE">4100</MaxImageHeight>
<MaxImageWidth Sync="TRUE">15000</MaxImageWidth>
<MaxRecordCount Sync="TRUE">1000</MaxRecordCount>
<MaxDownloadImageCount Sync="TRUE">20</MaxDownloadImageCount>
<MaxDownloadSizeLimit Sync="TRUE">2048</MaxDownloadSizeLimit>
<MaxMosaicImageCount Sync="TRUE">20</MaxMosaicImageCount>
<DefaultCompressionQuality Sync="TRUE">75</DefaultCompressionQuality>
<DefaultCompressionTolerance Sync="TRUE">0.01</DefaultCompressionTolerance>
<BlendWidth Sync="TRUE">10</BlendWidth>
<ViewpointSpacingX Sync="TRUE">600</ViewpointSpacingX>
<ViewpointSpacingY Sync="TRUE">300</ViewpointSpacingY>
<AllowedItemMetadata Sync="TRUE">Basic</AllowedItemMetadata>
<DefaultResamplingMethod Sync="TRUE">1</DefaultResamplingMethod>
<AllowedMosaicMethods Sync="TRUE">NorthWest,Center,LockRaster,ByAttribute,Nadir,Viewpoint,Seamline,None</AllowedMosaicMethods>
<AllowedCompressions Sync="TRUE">None,JPEG,LZ77,LERC</AllowedCompressions>
<AllowedMensurationCapabilities Sync="TRUE">Basic</AllowedMensurationCapabilities>
<AvailableMensurationCapabilities Sync="TRUE">None,Basic,Base-Top Height,Top-Top Shadow Height,Base-Top Shadow Height,3D</AvailableMensurationCapabilities>
<ClipToBoundary Sync="TRUE">-1</ClipToBoundary>
<FootprintMayContainNoData Sync="TRUE">-1</FootprintMayContainNoData>
<CellSizeTolerance Sync="TRUE">0.8</CellSizeTolerance>
<MinimumPixelContribution Sync="TRUE">1</MinimumPixelContribution>
<AvailableMosaicMethods Sync="TRUE">NorthWest,Center,LockRaster,ByAttribute,Nadir,Viewpoint,Seamline,None</AvailableMosaicMethods>
<AvailableCompressionMethods Sync="TRUE">None,JPEG,LZ77,LERC</AvailableCompressionMethods>
<AvailableItemMetadataLevels Sync="TRUE">None,Basic,Full</AvailableItemMetadataLevels>
<BandDefinitionKeyword Sync="TRUE">NONE</BandDefinitionKeyword>
<_docversion_ Sync="TRUE">10</_docversion_>
<AllowedFields Sync="TRUE">Name,MinPS,MaxPS,LowPS,HighPS,Tag,GroupName,ProductName,CenterX,CenterY,ZOrder,Shape_Length,Shape_Area,Thumbnail</AllowedFields>
<MaxCellSize Sync="TRUE">6400</MaxCellSize>
<LowCellSize Sync="TRUE">2.5</LowCellSize>
<HighCellSize Sync="TRUE">640</HighCellSize>
<PixelCacheLocation Sync="TRUE">C:\Users\ccarlso\AppData\Local\ESRI\rasterproxies\SF_NAVD88_DEM_ServiceMosaic</PixelCacheLocation>
</Properties>
<Functions Sync="TRUE">
<Function Description="Performs on-the-fly mosaic on a raster catalog." Name="Mosaic Function"/>
</Functions>
</RasterProperties>
</DataProperties>
<SyncDate>20230815</SyncDate>
<SyncTime>13280500</SyncTime>
<ModDate>20230815</ModDate>
<ModTime>13280500</ModTime>
</Esri>
<mdChar>
<CharSetCd value="004"/>
</mdChar>
<mdHrLv>
<ScopeCd value="005"/>
</mdHrLv>
<mdContact>
<rpIndName>Geospatial Services</rpIndName>
<rpOrgName>South Florida Water Management District</rpOrgName>
<rpCntInfo>
<cntPhone>
<voiceNum>561-682-6080</voiceNum>
</cntPhone>
<cntAddress addressType="both">
<delPoint>3301 Gun Club Road</delPoint>
<city>West Palm Beach</city>
<adminArea>Florida</adminArea>
<postCode>33416-4680</postCode>
<country>US</country>
<eMailAdd>GISData@sfwmd.gov</eMailAdd>
</cntAddress>
<cntHours>Monday to Friday, 9:00 AM to 5:00 PM</cntHours>
<cntInstr>Prefer email correspondence</cntInstr>
</rpCntInfo>
<role>
<RoleCd value="007"/>
</role>
</mdContact>
<mdDateSt>20230814</mdDateSt>
<mdStanName>ArcGIS Metadata</mdStanName>
<mdStanVer>1.0</mdStanVer>
<dataIdInfo>
<idCitation>
<resTitle>SF_NAVD88_DEM_ServiceMosaic_NGVD</resTitle>
<date>
<pubDate>2023-08-14</pubDate>
</date>
<citRespParty>
<rpOrgName>Geospatial Services, South Florida Water Management District</rpOrgName>
<role>
<RoleCd value="006"/>
</role>
</citRespParty>
<presForm>
<PresFormCd Sync="TRUE" value="005"/>
</presForm>
</idCitation>
<idAbs>This digital elevation model was compiled from 2018 Florida Peninsular Project, recent USGS 3D Elevation Program (3DEP), NOAA Bathymetric Continuously Updated Digital Elevation Model Tiles, USGS High Accuracy Elevation data, USACE Lake Okeechobee bathymetry, and other best available data sources for Miami-Dade and Tribal Reservations. It is a bare earth representation of ground elevations. Exceptions include hydro-flattened waterbodies, permanently or semi-permanently flooded areas where LiDAR sensors are unable to detect ground due to a number of factors. For source collection extents and metadata, please consult the SF_NAVD88_CollectionMetadata feature class.</idAbs>
<idPurp>This digital elevation model was compiled from 2018 Florida Peninsular Project, recent USGS 3D Elevation Program (3DEP), NOAA Bathymetric Continuously Updated Digital Elevation Model Tiles, USGS High Accuracy Elevation data, USACE Lake Okeechobee bathymetry, and other best available data sources for Miami-Dade and Tribal Reservations. It is a bare earth representation of ground elevations. Exceptions include hydro-flattened waterbodies, permanently or semi-permanently flooded areas where LiDAR sensors are unable to detect ground due to a number of factors. For source collection extents and metadata, please consult the SF_NAVD88_CollectionMetadata feature class.</idPurp>
<idCredit>SFWMD Geospatial Services</idCredit>
<resMaint>
<maintFreq>
<MaintFreqCd value="011"/>
</maintFreq>
</resMaint>
<themeKeys>
<keyword>elevation</keyword>
<thesaName>
<resTitle>ISO 19115 Topic Categories</resTitle>
</thesaName>
</themeKeys>
<themeKeys>
<keyword>elevation</keyword>
<keyword>NAVD88</keyword>
<keyword>DEM</keyword>
<keyword>digital elevation model</keyword>
</themeKeys>
<searchKeys>
<keyword>elevation</keyword>
<keyword>elevation</keyword>
<keyword>NAVD88</keyword>
<keyword>DEM</keyword>
<keyword>digital elevation model</keyword>
</searchKeys>
<resConst>
<Consts>
<useLimit>None. However, users should be aware that temporal changes may have occurred since this dataset was collected and that some parts of these data may no longer represent actual surface conditions. Users should not use these data for critical applications without a full awareness of its limitations. Please consult the SF_NAVD88_CollectionMetadata feature class to appropriately acknowledgement Source Agencies for their contributions to products derived from these data.</useLimit>
</Consts>
</resConst>
<tpCat>
<TopicCatCd value="006"/>
</tpCat>
<envirDesc Sync="TRUE">Microsoft Windows 10 Version 10.0 (Build 19045) ; Esri ArcGIS 13.1.2.41833</envirDesc>
<dataLang>
<languageCode Sync="TRUE" value="eng"/>
<countryCode Sync="TRUE" value="USA"/>
</dataLang>
<spatRpType>
<SpatRepTypCd Sync="TRUE" value="002"/>
</spatRpType>
<dataExt>
<geoEle>
<GeoBndBox esriExtentType="search">
<exTypeCode Sync="TRUE">1</exTypeCode>
<westBL Sync="TRUE">-83.029571</westBL>
<eastBL Sync="TRUE">-79.895165</eastBL>
<northBL Sync="TRUE">29.230218</northBL>
<southBL Sync="TRUE">24.488220</southBL>
</GeoBndBox>
</geoEle>
</dataExt>
</dataIdInfo>
<mdLang>
<languageCode Sync="TRUE" value="eng"/>
<countryCode Sync="TRUE" value="USA"/>
</mdLang>
<refSysInfo>
<RefSystem>
<refSysID>
<identCode Sync="TRUE" code="2881"/>
<idCodeSpace Sync="TRUE">EPSG</idCodeSpace>
<idVersion Sync="TRUE">6.3(9.0.0)</idVersion>
</refSysID>
</RefSystem>
</refSysInfo>
<spatRepInfo>
<Georect>
<cellGeo>
<CellGeoCd Sync="TRUE" value="002"/>
</cellGeo>
<numDims Sync="TRUE">2</numDims>
<tranParaAv Sync="TRUE">1</tranParaAv>
<chkPtAv Sync="TRUE">0</chkPtAv>
<cornerPts>
<pos Sync="TRUE">8664.621784 60843.333081</pos>
</cornerPts>
<cornerPts>
<pos Sync="TRUE">8664.621784 1780000.833081</pos>
</cornerPts>
<cornerPts>
<pos Sync="TRUE">1008582.121784 1780000.833081</pos>
</cornerPts>
<cornerPts>
<pos Sync="TRUE">1008582.121784 60843.333081</pos>
</cornerPts>
<centerPt>
<pos Sync="TRUE">508623.371784 920422.083081</pos>
</centerPt>
<axisDimension type="002">
<dimSize Sync="TRUE">399967</dimSize>
<dimResol>
<value Sync="TRUE" uom="ftUS">2.500000</value>
</dimResol>
</axisDimension>
<axisDimension type="001">
<dimSize Sync="TRUE">687663</dimSize>
<dimResol>
<value Sync="TRUE" uom="ftUS">2.500000</value>
</dimResol>
</axisDimension>
<ptInPixel>
<PixOrientCd Sync="TRUE" value="001"/>
</ptInPixel>
</Georect>
</spatRepInfo>
<contInfo>
<ImgDesc>
<contentTyp>
<ContentTypCd Sync="TRUE" value="001"/>
</contentTyp>
<covDim>
<Band>
<dimDescrp Sync="TRUE">Band_1</dimDescrp>
<maxVal Sync="TRUE">455.630738</maxVal>
<minVal Sync="TRUE">-343.671663</minVal>
<bitsPerVal Sync="TRUE">32</bitsPerVal>
<valUnit>
<UOM type="length"/>
</valUnit>
</Band>
</covDim>
</ImgDesc>
</contInfo>
</metadata>
